BEGIN:VCALENDAR
VERSION:2.0
PRODID:-//ChamberMaster//Event Calendar 2.0//EN
METHOD:PUBLISH
X-PUBLISHED-TTL:P3D
REFRESH-INTERVAL:P3D
CALSCALE:GREGORIAN
BEGIN:VEVENT
DTSTART:20220222T170000Z
DTEND:20220222T180000Z
X-MICROSOFT-CDO-ALLDAYEVENT:FALSE
SUMMARY:Chamber Member Monthly Meeting
DESCRIPTION:**This is a Chamber Member event only**\n\n\n\nPlease join our monthly Chamber Member Meeting virtually. The agenda is attached the email invitation.
X-ALT-DESC;FMTTYPE=text/html:<span style="font-size:14px\;"><span style="font-family:arial\;">**This is a Chamber Member event only**<br />\n<br />\n<span style="caret-color: rgb(102\, 102\, 102)\;">Please join our monthly Chamber Member Meeting virtually. The agenda is attached the email invitation.</span></span></span>
LOCATION:VIRTUAL https://us06web.zoom.us/j/81780105177?pwd=THJ3djVKMUpDS3JPZzVWbkdIdTNtdz09 Meeting ID: 817 8010 5177 Passcode: 122242
UID:e.2438.5164
SEQUENCE:3
DTSTAMP:20260421T133911Z
URL:https://business.hbchamber.net/events/details/chamber-member-monthly-meeting-5164
END:VEVENT

END:VCALENDAR
