BEGIN:VCALENDAR
VERSION:2.0
PRODID:-//ChamberMaster//Event Calendar 2.0//EN
METHOD:PUBLISH
X-PUBLISHED-TTL:P3D
REFRESH-INTERVAL:P3D
CALSCALE:GREGORIAN
BEGIN:VEVENT
DTSTART:20260303T173000Z
DTEND:20260303T183000Z
X-MICROSOFT-CDO-ALLDAYEVENT:FALSE
SUMMARY:Chamber Member Meeting (Rescheduled from Feb 24)
DESCRIPTION:*REGISTER* Please join our monthly Chamber Member Meeting virtually. This is a monthly meeting of all chamber members that happens virtually for ease of participation. There is always a business report and HBPD report. We invite special guests to some meetings. This is the meeting to come to to discuss concerns\, needs\, and more.\n\n\n\nWe're pleased to share that a Certified Access Specialist (CASp) will be a guest speaker at our Monthly Chamber Member Meeting on March 3 at 9:30 AM.\n\n\n\nWith accessibility compliance and inspections top of mind for many businesses\, this is a valuable opportunity to hear directly from a certified expert\, ask questions\, and better understand what to expect.\n\n\n\nThe Hermosa Beach Chamber is committed to helping members stay informed\, prepared\, and compliant with the Americans with Disabilities Act (ADA) and California accessibility standards.\n\n\n\nWe've already coordinated a discounted group inspection rate for Chamber members\, and several businesses have signed up. We continue to stay in active conversation with compliance professionals to ensure our members have access to accurate information\, trusted resources\, and practical guidance.\n\n\n\nIf you'd like to:\n\n   Sign up for the group rate\n\n   Get more information about ADA compliance\n\n   Schedule your inspection\n\n   Join our Monthly Chamber Member Meeting to learn more. \n\n\n\n   Join us March 3 at 9:30 AM and take proactive steps to protect and strengthen your business.
X-ALT-DESC;FMTTYPE=text/html:<strong>*REGISTER*</strong> Please join our monthly Chamber Member Meeting virtually. This is a monthly meeting of all chamber members that happens virtually for ease of participation. There is always a business report and HBPD report. We invite special guests to some meetings. This is the meeting to come to to discuss concerns\, needs\, and more.<br />\n<br />\nWe&rsquo\;re pleased to share that a <strong>Certified Access Specialist (CASp)</strong> will be a guest speaker at our Monthly Chamber Member Meeting on March 3 at 9:30 AM.<br />\n<br />\nWith accessibility compliance and inspections top of mind for many businesses\, this is a valuable opportunity to hear directly from a certified expert\, ask questions\, and better understand what to expect.<br />\n<br />\nThe Hermosa Beach Chamber is committed to helping members stay informed\, prepared\, and compliant with the Americans with Disabilities Act (ADA) and California accessibility standards.<br />\n<br />\nWe&rsquo\;ve already coordinated a discounted group inspection rate for Chamber members\, and several businesses have signed up. We continue to stay in active conversation with compliance professionals to ensure our members have access to accurate information\, trusted resources\, and practical guidance.<br />\n<br />\nIf you&rsquo\;d like to:<br />\n&#10004\;&#65039\; Sign up for the group rate<br />\n&#10004\;&#65039\; Get more information about ADA compliance<br />\n&#10004\;&#65039\; Schedule your inspection<br />\n&#128073\;&#127995\; Join our Monthly Chamber Member Meeting to learn more.&nbsp\;<br />\n<br />\n&#128467\;&#65039\; Join us March 3 at 9:30 AM and take proactive steps to protect and strengthen your business.
LOCATION:VIRTUAL/ZOOM *MEMBERS ONLY* Join Zoom Meeting https://us06web.zoom.us/j/86203830694?pwd=rTH2qMdx36yejC67EVBnfrUQuywBZa.1 Meeting ID: 862 0383 0694 Passcode: 410125
UID:e.2438.15279
SEQUENCE:3
DTSTAMP:20260421T174144Z
URL:https://business.hbchamber.net/events/details/chamber-member-meeting-rescheduled-from-feb-24-15279
END:VEVENT

END:VCALENDAR
