BEGIN:VCALENDAR
VERSION:2.0
PRODID:-//ChamberMaster//Event Calendar 2.0//EN
METHOD:PUBLISH
X-PUBLISHED-TTL:P3D
REFRESH-INTERVAL:P3D
CALSCALE:GREGORIAN
BEGIN:VEVENT
DTSTART:20240326T160000Z
DTEND:20240326T170000Z
X-MICROSOFT-CDO-ALLDAYEVENT:FALSE
SUMMARY:Chamber Member Meeting
DESCRIPTION:*REGISTER* Please join our monthly Chamber Member Meeting virtually. This is a monthly meeting of all chamber members that happens virtually for ease of participation. There is always a business report and HBPD report. We invite special guests to some meetings. This is the meeting to come to to discuss concerns\, needs\, and more.
X-ALT-DESC;FMTTYPE=text/html:<span style="color:#000000\;"><span style="font-size:14px\;"><span style="font-family:arial\;"><strong>*REGISTER*</strong> Please join our monthly Chamber Member Meeting virtually. <span style="caret-color: rgb(60\, 64\, 67)\; letter-spacing: 0.2px\; white-space: pre-wrap\;">This is a monthly meeting of all chamber members that happens virtually for ease of participation. There is always a business report and HBPD report. We invite special guests to some meetings. This is the meeting to come to to discuss concerns\, needs\, and more.</span></span></span></span>
LOCATION:VIRTUAL/ZOOM MEMBERS ONLY https://us06web.zoom.us/j/81780105177?pwd=THJ3djVKMUpDS3JPZzVWbkdIdTNtdz09 Meeting ID: 817 8010 5177 Passcode: 122242
UID:e.2438.5674
SEQUENCE:3
DTSTAMP:20260419T145927Z
URL:https://business.hbchamber.net/events/details/chamber-member-meeting-03-26-2024-5674
END:VEVENT

END:VCALENDAR
