BEGIN:VCALENDAR
VERSION:2.0
PRODID:-//ChamberMaster//Event Calendar 2.0//EN
METHOD:PUBLISH
X-PUBLISHED-TTL:P3D
REFRESH-INTERVAL:P3D
CALSCALE:GREGORIAN
BEGIN:VEVENT
DTSTART:20241205T020000Z
DTEND:20241205T050000Z
X-MICROSOFT-CDO-ALLDAYEVENT:FALSE
SUMMARY:Chamber Holiday Party '24
DESCRIPTION:A Holiday party for you  and you  and you \n\nThe third annual Hermosa Chamber Holiday Party is back! Join us the evening of December 4 for food\, drinks\, Santa\, photos\, games and fun! Chamber & Foundation members\, City representatives\, community leaders\, residents\, non-residents\, ALL are invited to join us for some holiday fun. We'll also be raffling off BeachLife Festival tickets -- purchase tickets now!\n\n\n\nAttire: Festive semi formal -- it's Hermosa\, you can come in flip flops or full on glam!
X-ALT-DESC;FMTTYPE=text/html:<b data-stringify-type="bold" style="box-sizing: inherit\; color: rgb(29\, 28\, 29)\; font-family: Slack-Lato\, Slack-Fractions\, appleLogo\, sans-serif\; font-size: 15px\; font-variant-ligatures: common-ligatures\; orphans: 2\; widows: 2\; text-decoration-thickness: initial\; text-decoration-style: initial\; text-decoration-color: initial\;">A Holiday party for you&hellip\; and you&hellip\; and you&hellip\;</b><br style="box-sizing: inherit\; color: rgb(29\, 28\, 29)\; font-family: Slack-Lato\, Slack-Fractions\, appleLogo\, sans-serif\; font-size: 15px\; font-variant-ligatures: common-ligatures\; orphans: 2\; widows: 2\; text-decoration-thickness: initial\; text-decoration-style: initial\; text-decoration-color: initial\;" />\n<span style="color: rgb(29\, 28\, 29)\; font-family: Slack-Lato\, Slack-Fractions\, appleLogo\, sans-serif\; font-size: 15px\; font-variant-ligatures: common-ligatures\; orphans: 2\; widows: 2\; text-decoration-thickness: initial\; text-decoration-style: initial\; text-decoration-color: initial\;">The third annual Hermosa Chamber Holiday Party is back! Join us the evening of December 4 for food\, drinks\, Santa\, photos\, games and fun! Chamber &amp\; Foundation members\, City representatives\, community leaders\, residents\, non-residents\, ALL are invited to join us for some holiday fun. We&#39\;ll also be raffling off BeachLife Festival tickets -- purchase tickets now!<br />\n<br />\n<strong>Attire:</strong> Festive semi formal -- it&#39\;s Hermosa\, you can come in flip flops or full on glam!</span>
LOCATION:Underground Pub & Grill 1332 Hermosa Avenue Hermosa Beach\, CA 90254
UID:e.2438.10806
SEQUENCE:3
DTSTAMP:20260422T173215Z
URL:https://business.hbchamber.net/events/details/chamber-holiday-party-24-10806
END:VEVENT

END:VCALENDAR
