BEGIN:VCALENDAR
VERSION:2.0
PRODID:-//ChamberMaster//Event Calendar 2.0//EN
METHOD:PUBLISH
X-PUBLISHED-TTL:P3D
REFRESH-INTERVAL:P3D
CALSCALE:GREGORIAN
BEGIN:VEVENT
DTSTART:20250527T160000Z
DTEND:20250527T200000Z
X-MICROSOFT-CDO-ALLDAYEVENT:FALSE
SUMMARY:Center for Health and Fitness: National Senior Health & Fitness Week
DESCRIPTION:Join us as we celebrate National Center Health & Fitness Week\, the nation's largest health event dedicated to inspiring older adults to take charge of their health and well-being. Enjoy FREE fitness classes\, health assessments\, and educational seminars all designed to empower you to live a more active\, healthy\, and fulfilling life. Don't miss this opportunity to invest in your health mind\, body\, and spirit. Bring a friend and join us for this fun\, inspiring\, and educational week! For more information or to register\, call 310-374-3426\, Option 7 or visit www.beachcitiesgym.org/national-senior-health-fitness-week.
X-ALT-DESC;FMTTYPE=text/html:Join us as we celebrate National Center Health &amp\; Fitness Week\, the nation&rsquo\;s largest health event dedicated to inspiring older adults to take charge of their health and well-being. Enjoy FREE fitness classes\, health assessments\, and educational seminars&mdash\;all designed to empower you to live a more active\, healthy\, and fulfilling life. Don&#39\;t miss this opportunity to invest in your health&mdash\;mind\, body\, and spirit. Bring a friend and join us for this fun\, inspiring\, and educational week! For more information or to register\, call 310-374-3426\, Option 7 or visit <a href="http://www.beachcitiesgym.org/national-senior-health-fitness-week">www.beachcitiesgym.org/national-senior-health-fitness-week</a>.
LOCATION:Center for Health and Fitness\, 2nd Floor 514 N. Prospect Ave Redondo Beach\, CA 90277
UID:e.2438.11546
SEQUENCE:3
DTSTAMP:20260422T225444Z
URL:https://business.hbchamber.net/events/details/center-for-health-and-fitness-national-senior-health-fitness-week-11546
END:VEVENT

END:VCALENDAR
