BEGIN:VCALENDAR
VERSION:2.0
PRODID:-//ChamberMaster//Event Calendar 2.0//EN
METHOD:PUBLISH
X-PUBLISHED-TTL:P3D
REFRESH-INTERVAL:P3D
CALSCALE:GREGORIAN
BEGIN:VEVENT
DTSTART:20240220T170000Z
DTEND:20240220T190000Z
X-MICROSOFT-CDO-ALLDAYEVENT:FALSE
SUMMARY:Center for Health and Fitness: AHA Blood Pressure Clinic
DESCRIPTION:CHF is teaming up with the American Heart Association and Providence Little Company of Mary to offer free blood pressure screenings as part of Check. Change. Control\, an evidence-based hypertension management program that utilizes blood pressure self-monitoring to empower participants to take ownership of their cardiovascular health. Free and open to the public.  Center for Health and Fitness\, 514 Prospect\, 2nd floor\, Redondo Beach.
X-ALT-DESC;FMTTYPE=text/html:CHF is teaming up with the American Heart Association and Providence Little Company of Mary to offer free blood pressure screenings as part of Check. Change. Control\, an evidence-based hypertension management program that utilizes blood pressure self-monitoring to empower participants to take ownership of their cardiovascular health. Free and open to the public.&nbsp\; Center for Health and Fitness\, 514 Prospect\, 2nd floor\, Redondo Beach.<br />\n
LOCATION:Center for Health and Fitness\, 514 Prospect\, 2nd floor\, Redondo Beach.
UID:e.2438.9313
SEQUENCE:3
DTSTAMP:20260419T132446Z
URL:https://business.hbchamber.net/events/details/center-for-health-and-fitness-aha-blood-pressure-clinic-9313
END:VEVENT

END:VCALENDAR
