BEGIN:VCALENDAR
VERSION:2.0
PRODID:-//ChamberMaster//Event Calendar 2.0//EN
METHOD:PUBLISH
X-PUBLISHED-TTL:P3D
REFRESH-INTERVAL:P3D
CALSCALE:GREGORIAN
BEGIN:VEVENT
DTSTART:20250726T230000Z
DTEND:20250727T030000Z
X-MICROSOFT-CDO-ALLDAYEVENT:FALSE
SUMMARY:Carnaval Magico: Hermosa Beach Sister City Association Annual Gala
DESCRIPTION:In 1967\, Hermosa Beach\, CA\, formed a "sister city" relationship with the city of Loreto\, in Baja California Sur\, Mexico\, and thus was formed the Hermosa Beach Sister City Association (HBSCA). This serene\, picturesque fishing village is located on Sea of Cortez in the southern part of the Baja California peninsula. Over the years\, the HBSCA has forged a very close bond with Loreto and its citizens. With assistance and guidance from the HBSCA\, Loreto has vastly improved the quality of life for its residents and created many opportunities for its citizens. The HBSCA is a United States Congressionally Recognized Program.\n\n \n\nThis is our annual fundraiser and your support is so appreciated by Hermosa Beach and Loreto residents alike.  We hope you'll have an opportunity to visit Loreto in the near future!!
X-ALT-DESC;FMTTYPE=text/html:In 1967\, Hermosa Beach\, CA\, formed a &quot\;sister city&quot\; relationship with the city of Loreto\, in Baja California Sur\, Mexico\, and thus was formed the Hermosa Beach Sister City Association (HBSCA). This serene\, picturesque fishing village is located on Sea of Cortez in the southern part of the Baja California peninsula. Over the years\, the HBSCA has forged a very close bond with Loreto and its citizens. With assistance and guidance from the HBSCA\, Loreto has vastly improved the quality of life for its residents and created many opportunities for its citizens. The HBSCA is a United States Congressionally Recognized Program.<br />\n&nbsp\;<br />\nThis is our annual fundraiser and your support is so appreciated by Hermosa Beach and Loreto residents alike.&nbsp\; We hope you&#39\;ll have an opportunity to visit Loreto in the near future!!
LOCATION:St. Cross Episcopal Church 1818 Monterey Blvd Hermosa Beach\, CA 90254
UID:e.2438.12251
SEQUENCE:3
DTSTAMP:20260423T021852Z
URL:https://business.hbchamber.net/events/details/carnaval-magico-hermosa-beach-sister-city-association-annual-gala-12251
END:VEVENT

END:VCALENDAR
