BEGIN:VCALENDAR
VERSION:2.0
PRODID:-//ChamberMaster//Event Calendar 2.0//EN
METHOD:PUBLISH
X-PUBLISHED-TTL:P3D
REFRESH-INTERVAL:P3D
CALSCALE:GREGORIAN
BEGIN:VEVENT
DTSTART:20250117T020000Z
DTEND:20250117T040000Z
X-MICROSOFT-CDO-ALLDAYEVENT:FALSE
SUMMARY:***CANCELED*** No Boundaries: The Life and Works of Warren Miller Closing Event
DESCRIPTION:Join us at the Museum for the closing event for our latest rotating exhibit featuring the life and work of Warren Miller. His daughter Chris along with Board Member Mark Shoemaker will join us for a Q&A to share more stories\, memories\, and photographs that did not make it into the exhibit.
X-ALT-DESC;FMTTYPE=text/html:Join us at the Museum for the closing event for our latest rotating exhibit featuring the life and work of Warren Miller. His daughter Chris along with Board Member Mark Shoemaker will join us for a Q&amp\;A to share more stories\, memories\, and photographs that did not make it into the exhibit.&nbsp\;
LOCATION:Hermosa Beach Museum 710 Pier Ave Hermosa Beach\, CA 90254
UID:e.2438.11064
SEQUENCE:3
DTSTAMP:20260422T143842Z
URL:https://business.hbchamber.net/events/details/canceled-no-boundaries-the-life-and-works-of-warren-miller-closing-event-11064
END:VEVENT

END:VCALENDAR
