BEGIN:VCALENDAR
VERSION:2.0
PRODID:-//ChamberMaster//Event Calendar 2.0//EN
METHOD:PUBLISH
X-PUBLISHED-TTL:P3D
REFRESH-INTERVAL:P3D
CALSCALE:GREGORIAN
BEGIN:VEVENT
DTSTART:20240208T200000Z
DTEND:20240208T220000Z
X-MICROSOFT-CDO-ALLDAYEVENT:FALSE
SUMMARY:Calm\, Cool & Invested
DESCRIPTION:At Edward Jones\, understanding your goals and partnering with\n\nyou to achieve them is the best part of what we do. Financial\n\neducation is an important piece of that partnership. That's why\n\nwe're excited to invite you to our upcoming event\, where you'll\n\nlearn about strategies to help you achieve your financial goals.\n\n\n\nFeel free to bring a friend. Please email jessica.galloirigoyen@edwardjones.com\n\nby 01/25/2024 to let us know you're coming. RSVP is required\n\n\n\nCalm\, Cool & Invested\n\nBill Gevov\n\nSenior Regional Consultant\n\nMFS\n\nHosted by: Jeanie Alessandrini\n\n\n\nSave the date\n\n\n\nLunch will be served\, RSVP is required
X-ALT-DESC;FMTTYPE=text/html:At Edward Jones\, understanding your goals and partnering with<br />\nyou to achieve them is the best part of what we do. Financial<br />\neducation is an important piece of that partnership. That&rsquo\;s why<br />\nwe&rsquo\;re excited to invite you to our upcoming event\, where you&rsquo\;ll<br />\nlearn about strategies to help you achieve your financial goals.<br />\n<br />\nFeel free to bring a friend. Please email jessica.galloirigoyen@edwardjones.com<br />\nby 01/25/2024 to let us know you&#39\;re coming. RSVP is required<br />\n<br />\n<strong>Calm\, Cool &amp\; Invested<br />\nBill Gevov<br />\nSenior Regional Consultant<br />\nMFS<br />\nHosted by: Jeanie Alessandrini<br />\n<br />\n<span style="font-size:14px">Save the date</span></strong><br />\n<br />\nLunch will be served\,&nbsp\;RSVP is required
LOCATION:Patrick Molloy's 50-A Pier Ave Hermosa Beach\, CA 90254
UID:e.2438.9245
SEQUENCE:3
DTSTAMP:20260419T131412Z
URL:https://business.hbchamber.net/events/details/calm-cool-invested-9245
END:VEVENT

END:VCALENDAR
