BEGIN:VCALENDAR
VERSION:2.0
PRODID:-//ChamberMaster//Event Calendar 2.0//EN
METHOD:PUBLISH
X-PUBLISHED-TTL:P3D
REFRESH-INTERVAL:P3D
CALSCALE:GREGORIAN
BEGIN:VEVENT
DTSTART:20241212T080000Z
DTEND:20250101T080000Z
X-MICROSOFT-CDO-ALLDAYEVENT:FALSE
SUMMARY:Call for Art! "The New Year Show" at the Gallery of Hermosa
DESCRIPTION:Call for Art! The Gallery of Hermosa is seeking artists to apply (original paintings\, mixed media and/or 3D art) to our upcoming "New Year Show" art exhibit and sale. Deadline to apply is January 1st. The show will kick off with an Opening Reception on Friday January 17th (5-8pm). All mediums and styles are welcome to apply to this juried exhibit. To apply please visit: https://galleryofhermosa.com/collections/the-new-year-show-art-show-sale. Thank you!
X-ALT-DESC;FMTTYPE=text/html:Call for Art! The Gallery of Hermosa is seeking artists to apply (original paintings\, mixed media and/or 3D art) to our upcoming "New Year Show" art exhibit and sale. Deadline to apply is January 1st. The show will kick off with an Opening Reception on Friday January 17th (5-8pm). All mediums and styles are welcome to apply to this juried exhibit. To apply please visit:&nbsp\;https://galleryofhermosa.com/collections/the-new-year-show-art-show-sale. Thank you!
LOCATION:Gallery of Hermosa 138 Pier Ave. Hermosa Beach\, CA 90254
UID:e.2438.11062
SEQUENCE:3
DTSTAMP:20260422T144025Z
URL:https://business.hbchamber.net/events/details/call-for-art-the-new-year-show-at-the-gallery-of-hermosa-11062
END:VEVENT

END:VCALENDAR
