BEGIN:VCALENDAR
VERSION:2.0
PRODID:-//ChamberMaster//Event Calendar 2.0//EN
METHOD:PUBLISH
X-PUBLISHED-TTL:P3D
REFRESH-INTERVAL:P3D
CALSCALE:GREGORIAN
BEGIN:VEVENT
DTSTART:20250403T220000Z
DTEND:20250403T230000Z
X-MICROSOFT-CDO-ALLDAYEVENT:FALSE
SUMMARY:Cafe Stories: Voices from Hermosa with Sonny Vardeman
DESCRIPTION:Join us at Gitana Cafe at 3pm on Thursday\, April 3\, for the next installment of the Hermosa Beach Museum's fan-favorite interview series\, Cafe Stories: Voices from Hermosa. Our next guest\, Sonny Vardeman\, is an accomplished local waterman\, decorated former lifeguard\, and respected former surf shop owner with extensive experiences in the South Bay. Bring a friend or meet a new one to enjoy coffee\, tea\, and memories of the South Bay!
X-ALT-DESC;FMTTYPE=text/html:Join us at Gitana Cafe at 3pm on Thursday\, April 3\, for the next installment of the Hermosa Beach Museum&rsquo\;s fan-favorite interview series\, Cafe Stories: Voices from Hermosa. Our next guest\, Sonny Vardeman\, is an accomplished local waterman\, decorated former lifeguard\, and respected former surf shop owner with extensive experiences in the South Bay. Bring a friend or meet a new one to enjoy coffee\, tea\, and memories of the South Bay!
LOCATION:Gitana Cafe 2600 Hermosa Ave Hermosa Beach\, CA 90254
UID:e.2438.11461
SEQUENCE:3
DTSTAMP:20260422T210716Z
URL:https://business.hbchamber.net/events/details/cafe-stories-voices-from-hermosa-with-sonny-vardeman-11461
END:VEVENT

END:VCALENDAR
