BEGIN:VCALENDAR
VERSION:2.0
PRODID:-//ChamberMaster//Event Calendar 2.0//EN
METHOD:PUBLISH
X-PUBLISHED-TTL:P3D
REFRESH-INTERVAL:P3D
CALSCALE:GREGORIAN
BEGIN:VEVENT
DTSTART:20241121T230000Z
DTEND:20241122T003000Z
X-MICROSOFT-CDO-ALLDAYEVENT:FALSE
SUMMARY:Cafe Stories: Voices from Hermosa
DESCRIPTION:Join us at Gitana Cafe for the Hermosa Beach Museum's next installment in our exciting new interview series\, Cafe Stories: Voices from Hermosa.\n\n\n\nThis week we will catch up with Scott Davey and Shannon Carr-Davey\, discussing lifeguarding and beach culture from 3-4:30pm on Thursday\, November 21. Bring a friend or meet a new one to enjoy coffee\, tea\, and memories of the South Bay!
X-ALT-DESC;FMTTYPE=text/html:Join us at Gitana Cafe for the Hermosa Beach Museum&rsquo\;s next installment in our exciting new interview series\, Cafe Stories: Voices from Hermosa.<br />\n<br />\nThis week we will catch up with Scott Davey and Shannon Carr-Davey\, discussing lifeguarding and beach culture from 3-4:30pm on Thursday\, November 21. Bring a friend or meet a new one to enjoy coffee\, tea\, and memories of the South Bay!
LOCATION:Gitana Cafe 2600 Hermosa Ave Hermosa Beach\, CA 90254
UID:e.2438.11017
SEQUENCE:3
DTSTAMP:20260422T192538Z
URL:https://business.hbchamber.net/events/details/cafe-stories-voices-from-hermosa-11017
END:VEVENT

END:VCALENDAR
