BEGIN:VCALENDAR
VERSION:2.0
PRODID:-//ChamberMaster//Event Calendar 2.0//EN
METHOD:PUBLISH
X-PUBLISHED-TTL:P3D
REFRESH-INTERVAL:P3D
CALSCALE:GREGORIAN
BEGIN:VEVENT
DTSTART:20250131T020000Z
DTEND:20250131T040000Z
X-MICROSOFT-CDO-ALLDAYEVENT:FALSE
SUMMARY:Business Par-Tee: Chamber Mixer
DESCRIPTION:Connect with local business owners on the course!    No experience needed and no requirement to play. Enjoy a new\, casual & fun space to mix and mingle. Light snacks and drinks provided + raffle for prizes!
X-ALT-DESC;FMTTYPE=text/html:Connect with local business owners on the course!&#9971\;&#65039\;&#129309\; No experience needed and no requirement to play. Enjoy a new\, casual &amp\; fun space to mix and mingle. Light snacks and drinks provided + raffle for prizes!
LOCATION:South Bay Golf Club 1601 Pacific Coast Highway\, Suite 180 (across from 24 Hour) Hermosa Beach\, CA 90254
UID:e.2438.11392
SEQUENCE:3
DTSTAMP:20260420T181719Z
URL:https://business.hbchamber.net/events/details/business-par-tee-chamber-mixer-11392
END:VEVENT

END:VCALENDAR
