BEGIN:VCALENDAR
VERSION:2.0
PRODID:-//ChamberMaster//Event Calendar 2.0//EN
METHOD:PUBLISH
X-PUBLISHED-TTL:P3D
REFRESH-INTERVAL:P3D
CALSCALE:GREGORIAN
BEGIN:VEVENT
DTSTART:20220212T200000Z
DTEND:20220212T230000Z
X-MICROSOFT-CDO-ALLDAYEVENT:FALSE
SUMMARY:Burn the Ships One Year Anniversary
DESCRIPTION:BTS E-Bikes is celebrating its one year anniversary on Feb 12th 2022\, 12pm-3pm at 1200 Pacific Coast Hwy\, #104\, Hermosa Beach\, CA. We would like to thank our local south bay community for their support and invite you to join for food and drinks and connect with other local community members. You also get to demo the best E-Bikes in the market.
X-ALT-DESC;FMTTYPE=text/html:<div style="font-family: Calibri\; font-size: 14px\;">BTS E-Bikes is celebrating its one year anniversary on Feb 12th 2022\, 12pm-3pm at 1200 Pacific Coast Hwy\, #104\, Hermosa Beach\, CA. We would like to thank our local south bay community for their support and invite you to join for food and drinks and connect with other local community members. You also get to demo the best E-Bikes in the market.</div>\n
LOCATION:1200 Pacific Coast Hwy #104 Hermosa Beach\, CA 90254
UID:e.2438.5163
SEQUENCE:3
DTSTAMP:20260421T132859Z
URL:https://business.hbchamber.net/events/details/burn-the-ships-one-year-anniversary-5163
END:VEVENT

END:VCALENDAR
