BEGIN:VCALENDAR
VERSION:2.0
PRODID:-//ChamberMaster//Event Calendar 2.0//EN
METHOD:PUBLISH
X-PUBLISHED-TTL:P3D
REFRESH-INTERVAL:P3D
CALSCALE:GREGORIAN
BEGIN:VEVENT
DTSTART:20250415T134500Z
DTEND:20250415T213000Z
X-MICROSOFT-CDO-ALLDAYEVENT:FALSE
SUMMARY:Buddha's Enlightenment Day Fasting Retreat
DESCRIPTION:Our annual celebration of Buddha Shakyamuni's enlightenment and the extraordinary benefit he has brought to countless people over centuries\, generation after generation\, to the present day.\n\nThis special holiday marks the anniversary of Buddha Shakyamuni demonstrating the attainment of enlightenment in 589 B.C.E. and is an extremely important day in the Buddhist calendar because our actions are 100\,000 times more powerful than on other days.
X-ALT-DESC;FMTTYPE=text/html:<p>Our annual celebration of Buddha Shakyamuni&rsquo\;s enlightenment and the extraordinary benefit he has brought to countless people over centuries\, generation after generation\, to the present day.</p>\n\n<p>This special holiday marks the anniversary of Buddha Shakyamuni demonstrating the attainment of enlightenment in 589 B.C.E. and is an extremely important day in the Buddhist calendar because our actions are 100\,000 times more powerful than on other days.</p>\n
LOCATION:Mahamudra Kadampa Meditation Center 500 6th St Hermosa Beach\, CA 90254
UID:e.2438.11477
SEQUENCE:3
DTSTAMP:20260422T211454Z
URL:https://business.hbchamber.net/events/details/buddha-s-enlightenment-day-fasting-retreat-11477
END:VEVENT

END:VCALENDAR
