BEGIN:VCALENDAR
VERSION:2.0
PRODID:-//ChamberMaster//Event Calendar 2.0//EN
METHOD:PUBLISH
X-PUBLISHED-TTL:P3D
REFRESH-INTERVAL:P3D
CALSCALE:GREGORIAN
BEGIN:VEVENT
DTSTART:20250519T160000Z
DTEND:20250524T030000Z
X-MICROSOFT-CDO-ALLDAYEVENT:FALSE
SUMMARY:Bob Burridge Painting Workshop Retreat at the Gallery of Hermosa!
DESCRIPTION:Robert Burridge's Abstract Acrylic Painting and Collage Workshop + Gallery Exhibit!\n\nCreative tearing and paint splashing starts off this abstract workshop. You will learn how to begin a new fresh body of work with your own artistic voice and point of view. Think "artist retreat\," producing a body of work\, a series of paintings or your conceptual solo show. You will learn new techniques for Abstract Painting & Collage with specific themes for each painting day.
X-ALT-DESC;FMTTYPE=text/html:<span style="color:rgb(23\, 23\, 23)\; font-family:raleway\,sans-serif\; font-size:14px">Robert&nbsp\;Burridge&rsquo\;s Abstract Acrylic Painting and Collage Workshop&nbsp\;+ Gallery Exhibit!</span><br />\n<span style="color:rgb(117\, 117\, 117)\; font-family:raleway\,sans-serif\; font-size:14px">Creative tearing and paint splashing starts off this abstract workshop. You will learn how to begin a new fresh body of work with your own artistic voice and point of view. Think &ldquo\;artist retreat\,&rdquo\; producing a body of work\, a series of paintings or your conceptual solo show.&nbsp\;You will learn new techniques for Abstract Painting &amp\; Collage with specific themes for each painting day.</span>
LOCATION:Gallery of Hermosa 138 Pier Ave. Hermosa Beach\, CA 90254
UID:e.2438.11457
SEQUENCE:3
DTSTAMP:20260422T225440Z
URL:https://business.hbchamber.net/events/details/bob-burridge-painting-workshop-retreat-at-the-gallery-of-hermosa-11457
END:VEVENT

END:VCALENDAR
