BEGIN:VCALENDAR
VERSION:2.0
PRODID:-//ChamberMaster//Event Calendar 2.0//EN
METHOD:PUBLISH
X-PUBLISHED-TTL:P3D
REFRESH-INTERVAL:P3D
CALSCALE:GREGORIAN
BEGIN:VEVENT
DTSTART;VALUE=DATE:20240308
DTEND;VALUE=DATE:20240319
TRANSP:TRANSPARENT
X-MICROSOFT-CDO-ALLDAYEVENT:TRUE
SUMMARY:Boards Across Hermosa Scavenger Hunt
DESCRIPTION:As part of the Hb Chamber's Boards Across Hermosa project\, we bring you the Scavenger Hunt! Stroll around Downtown Hermosa Beach and identify at least 20* skateboard names in participating businesses. Submit your completed postcard to the Hermosa Beach Chamber of Commerce (120 Pier Avenue). We're open M-F\, 11am - 5pm OR you can submit the postcard through the mail slot on the door.\n\nHunt begins March 8 and ends Monday\, March 18\, 5pm. Winners will be selected and contacted the week of March 31.\n\nParticipation Rules:\n\n\n	*Must identify at least 5 skateboard names in each area of Downtown (four areas) for a total of 20 identified board names. See four Downtown areas and the participating businesses below.\n	All ages are welcome to participate. It's not just for kids!\n	TO PARTICIPATE\, YOU CAN PICK UP A POSTCARD AT THE HB CHAMBER\, GUM TREE\, LUCKY 7 COFFEE\, CAPRI GELATO\, JAVA MAN\, TWO GUNS OR THE SOURCE CAFE.\n	All submitted postcards are checked for completion and accuracy and raffled to decide the winners. All drawn postcards and winners will be contacted individually to pick up their prize at the Chamber of Commerce.\n	Have fun!
X-ALT-DESC;FMTTYPE=text/html:<p style="font-size: 16px\; box-sizing: border-box\; margin: 0px 0px 10px\; font-family: Montserrat\, sans-serif\; caret-color: rgb(38\, 63\, 87)\; color: rgb(38\, 63\, 87)\;"><span style="font-size:14px\;"><span style="font-family:arial\;">As part of the Hb Chamber&#39\;s Boards Across Hermosa project\, we bring you the Scavenger Hunt! Stroll around Downtown Hermosa Beach and identify at least&nbsp\;<strong style="box-sizing: border-box\;">20*</strong>&nbsp\;skateboard names in participating businesses. Submit your completed postcard to the Hermosa Beach Chamber of Commerce (120 Pier Avenue). We&#39\;re open M-F\, 11am - 5pm OR you can submit the postcard through the mail slot on the door.</span></span></p>\n\n<p style="font-size: 16px\; box-sizing: border-box\; margin: 0px 0px 10px\; font-family: Montserrat\, sans-serif\; caret-color: rgb(38\, 63\, 87)\; color: rgb(38\, 63\, 87)\;"><span style="font-size:14px\;"><span style="font-family:arial\;"><strong style="box-sizing: border-box\;">Hunt begins March 8 and ends Monday\, March 18\, 5pm. Winners will be selected and contacted the week of March 31.</strong></span></span></p>\n\n<p style="font-size: 16px\; box-sizing: border-box\; margin: 0px 0px 10px\; font-family: Montserrat\, sans-serif\; caret-color: rgb(38\, 63\, 87)\; color: rgb(38\, 63\, 87)\;"><span style="font-size:14px\;"><span style="font-family:arial\;">Participation Rules:</span></span></p>\n\n<ul style="font-size: 16px\; box-sizing: border-box\; margin-top: 0px\; margin-bottom: 10px\; font-family: Montserrat\, sans-serif\; caret-color: rgb(38\, 63\, 87)\; color: rgb(38\, 63\, 87)\;">\n	<li style="box-sizing: border-box\;"><span style="font-size:14px\;"><span style="font-family:arial\;">*Must identify at least 5 skateboard names in each area of Downtown (four areas) for a total of 20 identified board names. See four Downtown areas and the participating businesses below.</span></span></li>\n	<li style="box-sizing: border-box\;"><span style="font-size:14px\;"><span style="font-family:arial\;">All ages are welcome to participate. It&#39\;s not just for kids!</span></span></li>\n	<li style="box-sizing: border-box\;"><span style="font-size:14px\;"><span style="font-family:arial\;"><strong style="box-sizing: border-box\;">TO PARTICIPATE\, YOU CAN PICK UP A POSTCARD AT THE HB CHAMBER\, GUM TREE\, LUCKY 7 COFFEE\, CAPRI GELATO\, JAVA MAN\, TWO GUNS OR THE SOURCE CAFE.</strong></span></span></li>\n	<li style="box-sizing: border-box\;"><span style="font-size:14px\;"><span style="font-family:arial\;">All submitted postcards are checked for completion and accuracy and raffled to decide the winners. All drawn postcards and winners will be contacted individually to pick up their prize at the Chamber of Commerce.</span></span></li>\n	<li style="box-sizing: border-box\;"><span style="font-size:14px\;"><span style="font-family:arial\;">Have fun!</span></span></li>\n</ul>\n
LOCATION:Downtown Hermosa Beach Full map and details can be found on our website.
UID:e.2438.9394
SEQUENCE:3
DTSTAMP:20260419T201358Z
URL:https://business.hbchamber.net/events/details/boards-across-hermosa-scavenger-hunt-9394
END:VEVENT

END:VCALENDAR
