BEGIN:VCALENDAR
VERSION:2.0
PRODID:-//ChamberMaster//Event Calendar 2.0//EN
METHOD:PUBLISH
X-PUBLISHED-TTL:P3D
REFRESH-INTERVAL:P3D
CALSCALE:GREGORIAN
BEGIN:VEVENT
DTSTART:20240202T220000Z
DTEND:20240203T030000Z
X-MICROSOFT-CDO-ALLDAYEVENT:FALSE
SUMMARY:Boards Across Hermosa Art Walk
DESCRIPTION:Join the BOARDS ACROSS HERMOSA ART & HISTORY WALK Friday\, Feb. 2nd\, 2-7pm\, in downtown Hermosa Beach! To celebrate the 25th Anniversary of the Hermosa Beach Skate Park\, local artists are displaying Hermosa-themed skate art in 50 participating businesses along Pier and Hermosa Avenues. Each stop has a fascinating history nugget about Hermosa's unique role in the development of skateboarding\, curated by skating icon Cindy Whitehead and the Hermosa Beach Historical Society!
X-ALT-DESC;FMTTYPE=text/html:<div><i helvetica="" style="caret-color: rgb(80\, 0\, 80)\; color: rgb(80\, 0\, 80)\;">Join the BOARDS ACROSS HERMOSA ART &amp\; HISTORY WALK Friday\, Feb. 2nd\, 2-7pm\, in downtown Hermosa Beach!&nbsp\;To celebrate the 25<sup>th</sup>&nbsp\;Anniversary of the Hermosa Beach Skate Park\, local artists are displaying Hermosa-themed skate art in 50 participating businesses along Pier and Hermosa Avenues. Each stop has a fascinating history nugget about Hermosa&#39\;s unique role in the development of skateboarding\, curated by skating icon Cindy Whitehead and the Hermosa Beach Historical Society!&nbsp\;</i></div>\n
LOCATION:Downtown Hermosa Beach A detailed map can be found at hbchamber.net/boardsacrosshermosa.
UID:e.2438.9340
SEQUENCE:3
DTSTAMP:20260419T131519Z
URL:https://business.hbchamber.net/events/details/boards-across-hermosa-art-walk-9340
END:VEVENT

END:VCALENDAR
