BEGIN:VCALENDAR
VERSION:2.0
PRODID:-//ChamberMaster//Event Calendar 2.0//EN
METHOD:PUBLISH
X-PUBLISHED-TTL:P3D
REFRESH-INTERVAL:P3D
CALSCALE:GREGORIAN
BEGIN:VEVENT
DTSTART:20250514T230000Z
DTEND:20250515T010000Z
X-MICROSOFT-CDO-ALLDAYEVENT:FALSE
SUMMARY:Blue Zones Project Social Hour
DESCRIPTION:Blue Zones Project's quarterly Social Hour is an opportunity to experience good company and practice some of Blue Zones Project's Power 9 Principles of Longevity\, including Down Shift and Positive Pack at a Blue Zones Project Approved Restaurant\, Bollywood Zaika\, 633 N. Pacific Coast Hwy.\, Redondo Beach.  For more information and to register\, please visit www.bchd.org/socialhour.
X-ALT-DESC;FMTTYPE=text/html:Blue Zones Project&#39\;s quarterly Social Hour is an opportunity to experience good company and practice some of Blue Zones Project&rsquo\;s Power 9 Principles of Longevity\, including Down Shift and Positive Pack at a Blue Zones Project Approved Restaurant\, Bollywood Zaika\, 633 N. Pacific Coast Hwy.\, Redondo Beach.&nbsp\; For more information and to register\, please visit <a href="http://www.bchd.org/socialhour">www.bchd.org/socialhour</a>.&nbsp\;
LOCATION:Bollywood Zaika 633 N. Pacific Coast Hwy Redondo Beach\, CA
UID:e.2438.11544
SEQUENCE:3
DTSTAMP:20260423T004841Z
URL:https://business.hbchamber.net/events/details/blue-zones-project-social-hour-11544
END:VEVENT

END:VCALENDAR
