BEGIN:VCALENDAR
VERSION:2.0
PRODID:-//ChamberMaster//Event Calendar 2.0//EN
METHOD:PUBLISH
X-PUBLISHED-TTL:P3D
REFRESH-INTERVAL:P3D
CALSCALE:GREGORIAN
BEGIN:VEVENT
DTSTART:20250123T000000Z
DTEND:20250123T020000Z
X-MICROSOFT-CDO-ALLDAYEVENT:FALSE
SUMMARY:Blue Zones Project Social Hour
DESCRIPTION:Blue Zones Project's quarterly Social Hour is an opportunity to experience good company and practice some of Blue Zones Project's Power 9 Principles. Join us in celebrating our newest Blue Zones Project Approved Restaurant in Redondo Beach\, Mychal's Cafe! There will be plenty of opportunities to connect as well as an array of healthy and delicious dishes to choose from. \n\nhttps://www.bchd.org/socialhour
X-ALT-DESC;FMTTYPE=text/html:Blue Zones Project&#39\;s quarterly Social Hour is an opportunity to experience good company and practice some of Blue Zones Project&rsquo\;s Power 9 Principles. Join us in celebrating our newest Blue Zones Project Approved Restaurant in Redondo Beach\, <strong>Mychal&rsquo\;s Cafe</strong>! There will be plenty of opportunities to connect as well as an array of healthy and delicious dishes to choose from.&nbsp\;<br />\n<a href="https://www.bchd.org/socialhour">https://www.bchd.org/socialhour</a>&nbsp\;
LOCATION:Mychal's Cafe 2302 Artesia Blvd Redondo Beach\, CA 90278
UID:e.2438.11091
SEQUENCE:3
DTSTAMP:20260422T141956Z
URL:https://business.hbchamber.net/events/details/blue-zones-project-social-hour-11091
END:VEVENT

END:VCALENDAR
