BEGIN:VCALENDAR
VERSION:2.0
PRODID:-//ChamberMaster//Event Calendar 2.0//EN
METHOD:PUBLISH
X-PUBLISHED-TTL:P3D
REFRESH-INTERVAL:P3D
CALSCALE:GREGORIAN
BEGIN:VEVENT
DTSTART:20250712T170000Z
DTEND:20250712T183000Z
X-MICROSOFT-CDO-ALLDAYEVENT:FALSE
SUMMARY:Blue Sky Mind
DESCRIPTION:Think of your mind as being like the sky vast and unobstructed and of all your thoughts and mental busyness as being like clouds. Learn how to unveil and meditate on the clarity\, luminosity\, and natural purity of our own mind\, coming to rest in a deeply peaceful state of awareness. \n\nSuitable for all level of practitioners.
X-ALT-DESC;FMTTYPE=text/html:<p>Think of your mind as being like the sky&mdash\;vast and unobstructed&mdash\;and of all your thoughts and mental busyness as being like clouds. Learn how to unveil and meditate on the clarity\, luminosity\, and natural purity of our own mind\, coming to rest in a deeply peaceful state of awareness.&nbsp\;</p>\n\n<p><em>Suitable for all level of practitioners.</em></p>\n
LOCATION:Mahamudra Kadampa Meditation Center 500 6th St Hermosa Beach\, CA 90254
UID:e.2438.12473
SEQUENCE:3
DTSTAMP:20260423T035721Z
URL:https://business.hbchamber.net/events/details/blue-sky-mind-12473
END:VEVENT

END:VCALENDAR
