BEGIN:VCALENDAR
VERSION:2.0
PRODID:-//ChamberMaster//Event Calendar 2.0//EN
METHOD:PUBLISH
X-PUBLISHED-TTL:P3D
REFRESH-INTERVAL:P3D
CALSCALE:GREGORIAN
BEGIN:VEVENT
DTSTART:20250211T010000Z
DTEND:20250211T050000Z
X-MICROSOFT-CDO-ALLDAYEVENT:FALSE
SUMMARY:Best of Hermosa 2025
DESCRIPTION:Join us for a truly Hermosa night of schmoozing and awarding phenomenal local businesses and people. Your ticket purchase includes a variety of delicious passed appetizers and 2 drink tickets.\n\n\n\nProgram:\n\n5pm - Cocktail Hour w/ live music by Swing at Six\n\n6pm - Program\n\n	State of the Chamber Address\n	Recognition of 2024 Chamber supporters\n	Induction of newly elected board of directors\n	Best of Hermosa Awards Ceremony\n\n8pm - Program ends\, live music continues with Swing at Six\n\n\n\nParking:\n\nStreet parking available. Public parking available behind Hermosa Saloon on 3rd Street. DO NOT park at the CVS lot - you will get towed.
X-ALT-DESC;FMTTYPE=text/html:Join us for a truly Hermosa night of schmoozing and awarding phenomenal local businesses and people. Your ticket purchase includes a variety of delicious passed appetizers and 2 drink tickets.<br />\n<br />\n<strong>Program:</strong><br />\n5pm - Cocktail Hour w/ live music by Swing at Six<br />\n6pm - Program\n<ul>\n	<li>State of the Chamber Address</li>\n	<li>Recognition of 2024&nbsp\;Chamber supporters</li>\n	<li>Induction of newly elected board of directors</li>\n	<li>Best of Hermosa Awards Ceremony</li>\n</ul>\n8pm - Program ends\, live music continues with Swing at Six<br />\n<br />\n<strong>Parking:</strong><br />\nStreet parking available. Public parking available behind Hermosa Saloon on 3rd Street. DO NOT park at the CVS lot - you will get towed.
LOCATION:Saint Rocke 142 Pacific Coast Hwy Hermosa Beach\, CA 90254
UID:e.2438.11369
SEQUENCE:3
DTSTAMP:20260420T123209Z
URL:https://business.hbchamber.net/events/details/best-of-hermosa-2025-11369
END:VEVENT

END:VCALENDAR
