BEGIN:VCALENDAR
VERSION:2.0
PRODID:-//ChamberMaster//Event Calendar 2.0//EN
METHOD:PUBLISH
X-PUBLISHED-TTL:P3D
REFRESH-INTERVAL:P3D
CALSCALE:GREGORIAN
BEGIN:VEVENT
DTSTART;VALUE=DATE:20250502
DTEND;VALUE=DATE:20250505
TRANSP:TRANSPARENT
X-MICROSOFT-CDO-ALLDAYEVENT:TRUE
SUMMARY:BeachLife Festival
DESCRIPTION:BeachLife Festival's mission is to inspire community\, authenticity\, and generosity through the celebration of music\, art\, and our Southern California beachlife culture.
X-ALT-DESC;FMTTYPE=text/html:BeachLife Festival&#39\;s mission is to inspire community\, authenticity\, and generosity through the celebration of music\, art\, and our Southern California beachlife culture.
LOCATION:239 N Harbor Dr Redondo Beach\, CA
UID:e.2438.11600
SEQUENCE:3
DTSTAMP:20260422T224645Z
URL:https://business.hbchamber.net/events/details/beachlife-festival-11600
END:VEVENT

END:VCALENDAR
