BEGIN:VCALENDAR
VERSION:2.0
PRODID:-//ChamberMaster//Event Calendar 2.0//EN
METHOD:PUBLISH
X-PUBLISHED-TTL:P3D
REFRESH-INTERVAL:P3D
CALSCALE:GREGORIAN
BEGIN:VEVENT
DTSTART:20220409T160000Z
DTEND:20220410T000000Z
X-MICROSOFT-CDO-ALLDAYEVENT:FALSE
SUMMARY:Beach Tennis Tournament
DESCRIPTION:Adult beach tennis tournament at the beach tennis courts\, north of the Pier.\n\nMore information can be found here.
X-ALT-DESC;FMTTYPE=text/html:<p style="box-sizing: border-box\; margin: 0px 0px 1em\; color: rgb(21\, 27\, 33)\; font-family: Cabin\, sans-serif\; font-size: 18px\; background-color: rgb(247\, 246\, 244)\; text-align: center\;">Adult beach tennis tournament at the beach tennis courts\, north of the Pier.</p>\n\n<p style="box-sizing: border-box\; margin: 0px 0px 1em\; color: rgb(21\, 27\, 33)\; font-family: Cabin\, sans-serif\; font-size: 18px\; background-color: rgb(247\, 246\, 244)\; text-align: center\;">More information can be found&nbsp\;<a href="https://www.hermosabeach.gov/?splash=http%3a%2f%2fwww.beachtennisassociation.net%2f&amp\;____isexternal=true" style="box-sizing: border-box\; background-color: transparent\; color: rgb(0\, 102\, 119)\;" target="_blank">here</a>.&nbsp\;</p>\n
LOCATION:Beach and Strand 1 Pier Avenue Hermosa Beach\, California 90254
UID:e.2438.5398
SEQUENCE:3
DTSTAMP:20260421T092916Z
URL:https://business.hbchamber.net/events/details/beach-tennis-tournament-5398
END:VEVENT

END:VCALENDAR
