BEGIN:VCALENDAR
VERSION:2.0
PRODID:-//ChamberMaster//Event Calendar 2.0//EN
METHOD:PUBLISH
X-PUBLISHED-TTL:P3D
REFRESH-INTERVAL:P3D
CALSCALE:GREGORIAN
BEGIN:VEVENT
DTSTART:20250626T230000Z
DTEND:20250627T010000Z
X-MICROSOFT-CDO-ALLDAYEVENT:FALSE
SUMMARY:Beach Cities Walk to End Alzheimer's Kickoff BBQ
DESCRIPTION:Everyone is invitied to kickoff the summer with the Alzheimer's Association at our Beach Cities Walk Kickoff! Enjoy live music\, free food\, golf\, games\, giveaway\, adnd more all while learning about the 2025 Walk to End Alzheimer's!
X-ALT-DESC;FMTTYPE=text/html:Everyone is invitied to kickoff the summer with the Alzheimer&#39\;s Association at our Beach Cities Walk Kickoff! Enjoy live music\, free food\, golf\, games\, giveaway\, adnd more all while learning about the 2025 Walk to End Alzheimer&#39\;s!
LOCATION:Clearwater at South Bay 3210 Sepulveda Blvd Torrance\, CA 90505
UID:e.2438.12398
SEQUENCE:3
DTSTAMP:20260423T004256Z
URL:https://business.hbchamber.net/events/details/beach-cities-walk-to-end-alzheimer-s-kickoff-bbq-12398
END:VEVENT

END:VCALENDAR
