BEGIN:VCALENDAR
VERSION:2.0
PRODID:-//ChamberMaster//Event Calendar 2.0//EN
METHOD:PUBLISH
X-PUBLISHED-TTL:P3D
REFRESH-INTERVAL:P3D
CALSCALE:GREGORIAN
BEGIN:VEVENT
DTSTART:20220216T023000Z
DTEND:20220216T040000Z
X-MICROSOFT-CDO-ALLDAYEVENT:FALSE
SUMMARY:Beach Cities Relay For Life Meeting
DESCRIPTION:Beach Cities Relay For Life - Saturday\, August 27th\, 2022 @ Alta Vista Park\n\nWe are looking for Volunteers\, Teams & Sponsors!!!!\n\nBeach Cities Relay For Life Zoom ELT Planning Meeting\, Tuesday\, February 15th @ 6:30!  RSVP: dana.wynkoop@cancer.org\n\n \n\nTo join the meeting go to: https://zoom.us/j/98724473024?pwd=YjY0T09UR0QwL01ZNndRYy9taWFQUT09\n\nMeeting ID: 987 2447 3024\n\nPasscode: 942898\n\nOne tap mobile\n\n+16699009128\,\,98724473024#\,\,\,\,*942898# US (San Jose)\n\n+12532158782\,\,98724473024#\,\,\,\,*942898# US (Tacoma)
X-ALT-DESC;FMTTYPE=text/html:<span style="color:#7030a0\;"><span style="font-family:cooper black\,serif\;"><span style="font-size:20pt\;">Beach Cities Relay For Life - Saturday\, August 27th\, 2022 @ Alta Vista Park</span></span></span><br />\n<span style="color:#7030a0\;"><span style="font-family:cooper black\,serif\;"><span style="font-size:26pt\;">We are looking for Volunteers\, Teams &amp\; Sponsors!!!!</span></span></span><br />\n<strong><span style="color:#7030a0\;"><span style="font-family:cooper black\,serif\;"><span style="font-size:14pt\;">Beach Cities Relay For Life Zoom ELT Planning Meeting\, Tuesday\, February 15<sup>th</sup>&nbsp\;@ 6:30!&nbsp\; RSVP:&nbsp\;</span></span></span></strong><a href="mailto:dana.wynkoop@cancer.org" style="color:rgb(17\, 85\, 204)\;" target="_blank"><strong><span style="color:#7030a0\;"><span style="font-family:cooper black\,serif\;"><span style="font-size:14pt\;">dana.wynkoop@cancer.org</span></span></span></strong></a><br />\n&nbsp\;<br />\n<strong>To join the meeting go to:&nbsp\;</strong><a data-saferedirecturl="https://www.google.com/url?q=https://zoom.us/j/98724473024?pwd%3DYjY0T09UR0QwL01ZNndRYy9taWFQUT09&amp\;source=gmail&amp\;ust=1644955240111000&amp\;usg=AOvVaw3A8UIsutA6H2xKY6Gahlbt" href="https://zoom.us/j/98724473024?pwd=YjY0T09UR0QwL01ZNndRYy9taWFQUT09" style="color:rgb(17\, 85\, 204)\;" target="_blank">https://zoom.us/j/98724473024?<wbr />pwd=<wbr />YjY0T09UR0QwL01ZNndRYy9taWFQUT<wbr />09</a><br />\n<strong>Meeting ID: 987 2447 3024</strong><br />\n<strong>Passcode: 942898</strong><br />\nOne tap mobile<br />\n+16699009128\,\,98724473024#\,\,\,\,<wbr />*942898# US (San Jose)<br />\n+12532158782\,\,98724473024#\,\,\,\,<wbr />*942898# US (Tacoma)<br />\n<br />\n
LOCATION:To join the meeting go to: https://zoom.us/j/98724473024?pwd=YjY0T09UR0QwL01ZNndRYy9taWFQUT09 Meeting ID: 987 2447 3024 Passcode: 942898 One tap mobile +16699009128\,\,98724473024#\,\,\,\,*942898# US (San Jose) +12532158782\,\,98724473024#\,\,\,\,*942898# US (Tacoma)
UID:e.2438.5220
SEQUENCE:3
DTSTAMP:20260421T133323Z
URL:https://business.hbchamber.net/events/details/beach-cities-relay-for-life-meeting-5220
END:VEVENT

END:VCALENDAR
