BEGIN:VCALENDAR
VERSION:2.0
PRODID:-//ChamberMaster//Event Calendar 2.0//EN
METHOD:PUBLISH
X-PUBLISHED-TTL:P3D
REFRESH-INTERVAL:P3D
CALSCALE:GREGORIAN
BEGIN:VEVENT
DTSTART:20241202T193000Z
DTEND:20241202T213000Z
X-MICROSOFT-CDO-ALLDAYEVENT:FALSE
SUMMARY:Beach Box & Ship Grand Opening and Ribbon Cutting Ceremony
DESCRIPTION:Beach Box & Ship is finally having their ribbon cutting! Join us for the celebration on Monday\, December 2 at 11:30 AM. Pastries & treats will be served by Gitana Cafe. Ribbon Cutting Ceremony begins at 12 PM.
X-ALT-DESC;FMTTYPE=text/html:Beach Box &amp\; Ship is finally having their ribbon cutting! Join us for the celebration on Monday\, December 2 at 11:30 AM. Pastries &amp\; treats will be served by Gitana Cafe. Ribbon Cutting Ceremony begins at 12 PM.
LOCATION:Beach Box & Ship 2629 Manhattan Ave Hermosa Beach\, CA 90254
UID:e.2438.11042
SEQUENCE:3
DTSTAMP:20260420T202413Z
URL:https://business.hbchamber.net/events/details/beach-box-ship-grand-opening-and-ribbon-cutting-ceremony-11042
END:VEVENT

END:VCALENDAR
