BEGIN:VCALENDAR
VERSION:2.0
PRODID:-//ChamberMaster//Event Calendar 2.0//EN
METHOD:PUBLISH
X-PUBLISHED-TTL:P3D
REFRESH-INTERVAL:P3D
CALSCALE:GREGORIAN
BEGIN:VEVENT
DTSTART:20241130T180000Z
DTEND:20241201T020000Z
X-MICROSOFT-CDO-ALLDAYEVENT:FALSE
SUMMARY:Beach & Beverly 10 Year Anniversary Celebration
DESCRIPTION:Let's celebrate! Beach & Beverly is celebrating their 10 year anniversary! Sip\, shop\, and vibe at Beach & Beverly!
X-ALT-DESC;FMTTYPE=text/html:Let&#39\;s celebrate! Beach &amp\; Beverly is celebrating their 10 year anniversary! Sip\, shop\, and vibe at Beach &amp\; Beverly!
LOCATION:Beach & Beverly 135 Pier Ave Hermosa Beach\, CA 90254
UID:e.2438.11014
SEQUENCE:3
DTSTAMP:20260422T192343Z
URL:https://business.hbchamber.net/events/details/beach-beverly-10-year-anniversary-celebration-11014
END:VEVENT

END:VCALENDAR
