BEGIN:VCALENDAR
VERSION:2.0
PRODID:-//ChamberMaster//Event Calendar 2.0//EN
METHOD:PUBLISH
X-PUBLISHED-TTL:P3D
REFRESH-INTERVAL:P3D
CALSCALE:GREGORIAN
BEGIN:VEVENT
DTSTART:20250509T010000Z
DTEND:20250509T053000Z
X-MICROSOFT-CDO-ALLDAYEVENT:FALSE
SUMMARY:Beach B.A.L.L.
DESCRIPTION:Saint Rocke\, May 8 from 6:00-10:30pm\n\nCome join Leadership Hermosa Beach at our annual fundraising event that Brings All Local Leaders together for an enjoyable night of celebrating the year's Emerging Leaders\, socializing\, silent auction\, and music by Dick the Citizen. Get your tickets now!\n\nMore info here: https://leadershiphermosa.org/beachball/
X-ALT-DESC;FMTTYPE=text/html:Saint Rocke\, May 8 from 6:00-10:30pm<br />\nCome join Leadership Hermosa Beach at our annual fundraising event that Brings All Local Leaders together for an enjoyable night of celebrating the year&rsquo\;s Emerging Leaders\, socializing\, silent auction\, and music by Dick the Citizen. Get your tickets now!<br />\nMore info here: <a href="https://leadershiphermosa.org/beachball/">https://leadershiphermosa.org/beachball/</a>
LOCATION:Saint Rocke 142 Pacific Coast Hwy Hermosa Beach\, CA 90254
UID:e.2438.11466
SEQUENCE:3
DTSTAMP:20260422T224531Z
URL:https://business.hbchamber.net/events/details/beach-b-a-l-l-11466
END:VEVENT

END:VCALENDAR
