BEGIN:VCALENDAR
VERSION:2.0
PRODID:-//ChamberMaster//Event Calendar 2.0//EN
METHOD:PUBLISH
X-PUBLISHED-TTL:P3D
REFRESH-INTERVAL:P3D
CALSCALE:GREGORIAN
BEGIN:VEVENT
DTSTART:20250603T013000Z
DTEND:20250603T023000Z
X-MICROSOFT-CDO-ALLDAYEVENT:FALSE
SUMMARY:BCHD Summer Free Fitness Series: Mindful Yoga on Hermosa Beach
DESCRIPTION:Beach Cities Sumer Free Fitness Series is back with Mindful Yoga on the Beach\, on the sand near Scotty's Restaurant\, 1100 Strand\, Hermosa Beach. This event is in partnership with the City of Hermosa Beach. Instructors from BCHD's Center for Health & Fitness will lead all Free Fitness sessions.
X-ALT-DESC;FMTTYPE=text/html:Beach Cities Sumer Free Fitness Series is back with Mindful Yoga on the Beach\, on the sand near Scotty&#39\;s Restaurant\, 1100 Strand\, Hermosa Beach. This event is in partnership with the City of Hermosa Beach. Instructors from BCHD&rsquo\;s Center for Health &amp\; Fitness will lead all Free Fitness sessions.&nbsp\;
LOCATION:Adjacent to Scotty's Restaurant on the Hermosa Beach Strand
UID:e.2438.12399
SEQUENCE:3
DTSTAMP:20260423T004538Z
URL:https://business.hbchamber.net/events/details/bchd-summer-free-fitness-series-mindful-yoga-on-hermosa-beach-12399
END:VEVENT

END:VCALENDAR
