BEGIN:VCALENDAR
VERSION:2.0
PRODID:-//ChamberMaster//Event Calendar 2.0//EN
METHOD:PUBLISH
X-PUBLISHED-TTL:P3D
REFRESH-INTERVAL:P3D
CALSCALE:GREGORIAN
BEGIN:VEVENT
DTSTART:20250724T013000Z
DTEND:20250724T033000Z
X-MICROSOFT-CDO-ALLDAYEVENT:FALSE
SUMMARY:BCHD: Hybrid Board of Directors Meeting
DESCRIPTION:BCHD holds public board meetings on the fourth Wednesday of the month (except August and December). Residents are encouraged to attend board meetings in person or via Zoom.  You may also contact board members directly with questions or comments\, or call 310-374-3426\, ext. 8213. Please visit bchd.org/board-directors-meetings for more information.
X-ALT-DESC;FMTTYPE=text/html:BCHD holds public board meetings on the fourth Wednesday of the month (except August and December). Residents are encouraged to attend board meetings in person or via Zoom.&nbsp\; You may also contact board members directly with questions or comments\, or call 310-374-3426\, ext. 8213. Please visit <a href="http://bchd.org/board-directors-meetings">bchd.org/board-directors-meetings</a> for more information.&nbsp\;
LOCATION:IN PERSON Beach Cities Health District\, Lower Level - Beach Cities Room 514 N. Prospect Ave. Redondo Beach\, CA VIRTUAL via Zoom bchd.org/board-directors-meetings
UID:e.2438.12464
SEQUENCE:3
DTSTAMP:20260423T021755Z
URL:https://business.hbchamber.net/events/details/bchd-hybrid-board-of-directors-meeting-12464
END:VEVENT

END:VCALENDAR
