BEGIN:VCALENDAR
VERSION:2.0
PRODID:-//ChamberMaster//Event Calendar 2.0//EN
METHOD:PUBLISH
X-PUBLISHED-TTL:P3D
REFRESH-INTERVAL:P3D
CALSCALE:GREGORIAN
BEGIN:VEVENT
DTSTART:20220302T050000Z
DTEND:20220302T075500Z
X-MICROSOFT-CDO-ALLDAYEVENT:FALSE
SUMMARY:Baja Sharkeez: Fat Tuesday
DESCRIPTION:Drink specials!
X-ALT-DESC;FMTTYPE=text/html:Drink specials!&nbsp\;
LOCATION:Baja Sharkeez Hermosa Beach Pier Ave. Hermosa Beach\, 90254
UID:e.2438.5278
SEQUENCE:3
DTSTAMP:20260421T110654Z
URL:https://business.hbchamber.net/events/details/baja-sharkeez-fat-tuesday-5278
END:VEVENT

END:VCALENDAR
