BEGIN:VCALENDAR
VERSION:2.0
PRODID:-//ChamberMaster//Event Calendar 2.0//EN
METHOD:PUBLISH
X-PUBLISHED-TTL:P3D
REFRESH-INTERVAL:P3D
CALSCALE:GREGORIAN
BEGIN:VEVENT
DTSTART:20220331T000000Z
DTEND:20220331T030000Z
X-MICROSOFT-CDO-ALLDAYEVENT:FALSE
SUMMARY:Backsberg/ S. African Wine Tasting
DESCRIPTION:South Africa is currently one of the most exciting wine regions in the world. Backsberg is situated between Stellenbosch and Paarl\, two of the best Wineland towns in the region. As a winery of over 100 years\, Backsberg's philosophy remains to provide pleasure and enjoyment to a broad range of wine lovers by producing wines with not only structure and finesse\, but also a high level of drinkability. Bryce Gillespie from Backsberg will be on hand to pour four of his favorite wines and wax poetic about South Africa and its wines.
X-ALT-DESC;FMTTYPE=text/html:South Africa is currently one of the most exciting wine regions in the world. Backsberg is situated between Stellenbosch and Paarl\, two of the best Wineland towns in the region. As a winery of over 100 years\, Backsberg&rsquo\;s philosophy remains to provide pleasure and enjoyment to a broad range of wine lovers by producing wines with not only structure and finesse\, but also a high level of drinkability. Bryce Gillespie from Backsberg will be on hand to pour four of his favorite wines and wax poetic about South Africa and its wines.
LOCATION:Uncorked\, Hermosa Beach 302 Pier Ave
UID:e.2438.5394
SEQUENCE:3
DTSTAMP:20260421T105229Z
URL:https://business.hbchamber.net/events/details/backsberg-s-african-wine-tasting-5394
END:VEVENT

END:VCALENDAR
