BEGIN:VCALENDAR
VERSION:2.0
PRODID:-//ChamberMaster//Event Calendar 2.0//EN
METHOD:PUBLISH
X-PUBLISHED-TTL:P3D
REFRESH-INTERVAL:P3D
CALSCALE:GREGORIAN
BEGIN:VEVENT
DTSTART:20240215T190000Z
DTEND:20240215T200000Z
X-MICROSOFT-CDO-ALLDAYEVENT:FALSE
SUMMARY:Ask an Advocate: Introducing our new Medicare Counseling Program with the Center for Health Care Rights 11 a.m. - 12 p.m.
DESCRIPTION:Do you have questions about Medicare? Learn more about free\, unbiased Medicare help from the Center for Health Care Rights\, which runs the Health Insurance Counseling and Advocacy Program (HICAP) in Los Angeles County. During this session\, a representative from HICAP will explain more about their free Medicare information and counseling services\, which types of Medicare questions and problems they can assist with and will also hold a question-and-answer session so that you can get some of your pressing Medicare questions answered. Questions? Call 310-374-3426\, Option 1.
X-ALT-DESC;FMTTYPE=text/html:Do you have questions about Medicare? Learn more about free\, unbiased Medicare help from the Center for Health Care Rights\, which runs the Health Insurance Counseling and Advocacy Program (HICAP) in Los Angeles County. During this session\, a representative from HICAP will explain more about their free Medicare information and counseling services\, which types of Medicare questions and problems they can assist with and will also hold a question-and-answer session so that you can get some of your pressing Medicare questions answered. Questions? Call 310-374-3426\, Option 1.
LOCATION:514 N. Prospect Ave.\, Lower Level\, Beach Cities Room\, Redondo Beach.
UID:e.2438.9312
SEQUENCE:3
DTSTAMP:20260419T132438Z
URL:https://business.hbchamber.net/events/details/ask-an-advocate-introducing-our-new-medicare-counseling-program-with-the-center-for-health-care-rights-11-a-m-12-p-m-9312
END:VEVENT

END:VCALENDAR
