BEGIN:VCALENDAR
VERSION:2.0
PRODID:-//ChamberMaster//Event Calendar 2.0//EN
METHOD:PUBLISH
X-PUBLISHED-TTL:P3D
REFRESH-INTERVAL:P3D
CALSCALE:GREGORIAN
BEGIN:VEVENT
DTSTART:20250413T233000Z
DTEND:20250414T010000Z
X-MICROSOFT-CDO-ALLDAYEVENT:FALSE
SUMMARY:Artist Mill Workshop: Shells with Ellie Piper
DESCRIPTION:Create a personal gift for a loved one\, or treat yourself to this special present. These beautiful handcrafted keepsakes capture the beauty of the sea. Spread coastal vibes with this Shell workshop lead by renowned local artist fave\, Ellie Piper of Beach Trees.  Choose to create a personalized one-of-a-kind frame\, cross\, or both.
X-ALT-DESC;FMTTYPE=text/html:Create a personal gift for a loved one\, or treat yourself to this special present. These beautiful handcrafted keepsakes capture the beauty of the sea. Spread coastal vibes with this Shell workshop lead by renowned local artist fave\, Ellie Piper of Beach Trees.&nbsp\; Choose to create a personalized one-of-a-kind frame\, cross\, or both.
LOCATION:The Artist Mill\, Workshop Studio 1138 Hermosa Avenue Hermosa Beach\, CA
UID:e.2438.11520
SEQUENCE:3
DTSTAMP:20260422T210254Z
URL:https://business.hbchamber.net/events/details/artist-mill-workshop-shells-with-ellie-piper-11520
END:VEVENT

END:VCALENDAR
