BEGIN:VCALENDAR
VERSION:2.0
PRODID:-//ChamberMaster//Event Calendar 2.0//EN
METHOD:PUBLISH
X-PUBLISHED-TTL:P3D
REFRESH-INTERVAL:P3D
CALSCALE:GREGORIAN
BEGIN:VEVENT
DTSTART:20250406T000000Z
DTEND:20250406T040000Z
X-MICROSOFT-CDO-ALLDAYEVENT:FALSE
SUMMARY:Art Walk
DESCRIPTION:Art Openings:\n\n	MADE by INCH: Featuring ART HIVE Pollinations\n	\n		5 PM - 7 PM\n		321 Pier Ave\, Hermosa Beach\, CA\n	\n	\n	INDIVISIBLE ARTS: SYMBIOSIS\n	\n		5 PM - 9 PM\n		RESIN 618 Cypress Ave\, Hermosa Beach\n	\n	\n	Gallery of Hermosa: "The Spirit of Imoido Yokocho (Memory Lane)"\n	\n		5 PM - 8 PM\n		138 Pier Ave\, Hermosa Beach
X-ALT-DESC;FMTTYPE=text/html:Art Openings:\n<ul>\n	<li>MADE by INCH: Featuring ART HIVE Pollinations\n	<ul>\n		<li>5 PM - 7 PM</li>\n		<li>321 Pier Ave\, Hermosa Beach\, CA</li>\n	</ul>\n	</li>\n	<li>INDIVISIBLE ARTS: SYMBIOSIS\n	<ul>\n		<li>5 PM - 9 PM</li>\n		<li>RESIN 618 Cypress Ave\, Hermosa Beach</li>\n	</ul>\n	</li>\n	<li>Gallery of Hermosa: &quot\;The Spirit of Imoido Yokocho (Memory Lane)&quot\;\n	<ul>\n		<li>5 PM - 8 PM</li>\n		<li>138 Pier Ave\, Hermosa Beach</li>\n	</ul>\n	</li>\n</ul>\n
LOCATION:
UID:e.2438.11464
SEQUENCE:3
DTSTAMP:20260422T210033Z
URL:https://business.hbchamber.net/events/details/art-walk-11464
END:VEVENT

END:VCALENDAR
