BEGIN:VCALENDAR
VERSION:2.0
PRODID:-//ChamberMaster//Event Calendar 2.0//EN
METHOD:PUBLISH
X-PUBLISHED-TTL:P3D
REFRESH-INTERVAL:P3D
CALSCALE:GREGORIAN
BEGIN:VEVENT
DTSTART:20241116T010000Z
DTEND:20241116T040000Z
X-MICROSOFT-CDO-ALLDAYEVENT:FALSE
SUMMARY:"Art for All" Gallery Opening Reception
DESCRIPTION:"Art for All" exhibit showcasing over 120 original artworks from 90 local and national artists! This exhibit features smaller works affordably priced\, don't miss this opportunity to start or add to your art collection!
X-ALT-DESC;FMTTYPE=text/html:<span style="color:rgb(34\, 34\, 34)\; font-family:assistant\,sans-serif\; font-size:14px"><span style="color:rgba(18\, 18\, 18\, 0.75)">&quot\;Art for All&quot\; exhibit showcasing over&nbsp\;</span></span><strong><span style="font-family:assistant\,sans-serif"><span style="color:rgba(18\, 18\, 18\, 0.75)">120&nbsp\;</span></span></strong><span style="color:rgb(34\, 34\, 34)\; font-family:assistant\,sans-serif\; font-size:14px"><span style="color:rgba(18\, 18\, 18\, 0.75)">original artworks from&nbsp\;</span></span><strong><span style="font-family:assistant\,sans-serif"><span style="color:rgba(18\, 18\, 18\, 0.75)">90</span></span></strong><span style="color:rgb(34\, 34\, 34)\; font-family:assistant\,sans-serif\; font-size:14px"><span style="color:rgba(18\, 18\, 18\, 0.75)">&nbsp\;local and national artists! This exhibit features smaller works&nbsp\;</span></span><span style="color:rgb(34\, 34\, 34)\; font-family:helvetica neue\,helvetica\,arial\,sans-serif\; font-size:14px">affordably</span><span style="color:rgb(34\, 34\, 34)\; font-family:assistant\,sans-serif\; font-size:14px"><span style="color:rgba(18\, 18\, 18\, 0.75)">&nbsp\;priced\, don&#39\;t miss this opportunity to start or add to your art collection!</span></span>
LOCATION:Gallery of Hermosa 138 Pier Ave.\, Hermosa Beach\, CA 90254
UID:e.2438.10775
SEQUENCE:3
DTSTAMP:20260422T192344Z
URL:https://business.hbchamber.net/events/details/art-for-all-gallery-opening-reception-10775
END:VEVENT

END:VCALENDAR
