BEGIN:VCALENDAR
VERSION:2.0
PRODID:-//ChamberMaster//Event Calendar 2.0//EN
METHOD:PUBLISH
X-PUBLISHED-TTL:P3D
REFRESH-INTERVAL:P3D
CALSCALE:GREGORIAN
BEGIN:VEVENT
DTSTART;VALUE=DATE:20220401
DTEND;VALUE=DATE:20220402
TRANSP:TRANSPARENT
X-MICROSOFT-CDO-ALLDAYEVENT:TRUE
SUMMARY:April Fool's Comedy Night @ The Brews Hall
DESCRIPTION:more info to come
X-ALT-DESC;FMTTYPE=text/html:more info to come
LOCATION:The Brews Hall 73 Pier Ave. Hermosa Beach\, 90254
UID:e.2438.5086
SEQUENCE:3
DTSTAMP:20260421T091835Z
URL:https://business.hbchamber.net/events/details/april-fool-s-comedy-night-the-brews-hall-5086
END:VEVENT

END:VCALENDAR
