BEGIN:VCALENDAR
VERSION:2.0
PRODID:-//ChamberMaster//Event Calendar 2.0//EN
METHOD:PUBLISH
X-PUBLISHED-TTL:P3D
REFRESH-INTERVAL:P3D
CALSCALE:GREGORIAN
BEGIN:VEVENT
DTSTART:20240310T200000Z
DTEND:20240310T220000Z
X-MICROSOFT-CDO-ALLDAYEVENT:FALSE
SUMMARY:Animal Adoption & Support Event
DESCRIPTION:Join us for our FIRST EVER Pet Adoption event\, next Sunday March 10th from 1-3PM at Kuleana! Co-sponsored by Sherry Yard and F&F! Coffee\n\n\n\nThere will be 5 dogs with handlers  in our parking lot\, and kittens inside\, meow! We are also doing a raffle:\n\n\n	$10 per ticket \n	$25 for 3 tickets \n	$50 for 8 tickets \n\n\nAll proceeds go to Lovejoy Foundation and Baby Kitten Rescue\, who are bringing the adoptable dogs and cats!~\n\n\n\n*AMAZING Raffle items donated by our local friends at:*\n\n\n	Kuleana Holistic Health\n	SoHo Yoga \n	The Work by Ava\n	Wicked General Store \n	Beach & Beverly \n	FORM Pilates LA\n	West Coast Sweat \n	Pro SUP Shop\n	Hume Supernatural \n	Sol Seek\n	Vuori \n	and MORE!!\n\n\nEveryone who purchases a raffle ticket gets complimentary coffee from our friend Al of F&F!*
X-ALT-DESC;FMTTYPE=text/html:<p style="margin: 0px\; font-style: normal\; font-variant-caps: normal\; font-stretch: normal\; line-height: normal\; font-family: &quot\;Helvetica Neue&quot\;\; font-size-adjust: none\; font-kerning: auto\; font-variant-alternates: normal\; font-variant-ligatures: normal\; font-variant-numeric: normal\; font-variant-east-asian: normal\; font-variant-position: normal\; font-feature-settings: normal\; font-optical-sizing: auto\; font-variation-settings: normal\;">Join us for our FIRST EVER Pet Adoption&nbsp\;event\, next Sunday March 10th from 1-3PM at Kuleana! Co-sponsored&nbsp\;by Sherry Yard and F&amp\;F! Coffee<br />\n<br />\nThere will be 5 dogs with handlers&nbsp\; in our parking lot\, and kittens inside\, meow! We are also doing a <span style="text-decoration: underline">raffle</span>:</p>\n\n<ul>\n	<li style="margin: 0px\; font-style: normal\; font-variant-caps: normal\; font-stretch: normal\; line-height: normal\; font-family: &quot\;Helvetica Neue&quot\;\; font-size-adjust: none\; font-kerning: auto\; font-variant-alternates: normal\; font-variant-ligatures: normal\; font-variant-numeric: normal\; font-variant-east-asian: normal\; font-variant-position: normal\; font-feature-settings: normal\; font-optical-sizing: auto\; font-variation-settings: normal\;">$10 per ticket&nbsp\;</li>\n	<li style="margin: 0px\; font-style: normal\; font-variant-caps: normal\; font-stretch: normal\; line-height: normal\; font-family: &quot\;Helvetica Neue&quot\;\; font-size-adjust: none\; font-kerning: auto\; font-variant-alternates: normal\; font-variant-ligatures: normal\; font-variant-numeric: normal\; font-variant-east-asian: normal\; font-variant-position: normal\; font-feature-settings: normal\; font-optical-sizing: auto\; font-variation-settings: normal\;">$25 for 3 tickets&nbsp\;</li>\n	<li style="margin: 0px\; font-style: normal\; font-variant-caps: normal\; font-stretch: normal\; line-height: normal\; font-family: &quot\;Helvetica Neue&quot\;\; font-size-adjust: none\; font-kerning: auto\; font-variant-alternates: normal\; font-variant-ligatures: normal\; font-variant-numeric: normal\; font-variant-east-asian: normal\; font-variant-position: normal\; font-feature-settings: normal\; font-optical-sizing: auto\; font-variation-settings: normal\;">$50 for 8 tickets&nbsp\;</li>\n</ul>\n\n<p style="margin: 0px\; font-style: normal\; font-variant-caps: normal\; font-stretch: normal\; line-height: normal\; font-family: &quot\;Helvetica Neue&quot\;\; font-size-adjust: none\; font-kerning: auto\; font-variant-alternates: normal\; font-variant-ligatures: normal\; font-variant-numeric: normal\; font-variant-east-asian: normal\; font-variant-position: normal\; font-feature-settings: normal\; font-optical-sizing: auto\; font-variation-settings: normal\;">All proceeds go to <a href="https://amandaleelac.us20.list-manage.com/track/click?u=962db1f6548f95e8e371840eb&amp\;id=756d028f72&amp\;e=94c1cfdfb2"><span style="color: rgb(220\, 161\, 13)\;">Lovejoy Foundation</span></a>&nbsp\;and <a href="https://amandaleelac.us20.list-manage.com/track/click?u=962db1f6548f95e8e371840eb&amp\;id=e2b65b9adb&amp\;e=94c1cfdfb2"><span style="color: rgb(220\, 161\, 13)\;">Baby Kitten Rescue</span></a>\, who are bringing the adoptable dogs and cats!~<br />\n<br />\n*AMAZING Raffle items donated by our local friends at:*</p>\n\n<ul>\n	<li style="margin: 0px\; font-style: normal\; font-variant-caps: normal\; font-stretch: normal\; line-height: normal\; font-family: &quot\;Helvetica Neue&quot\;\; font-size-adjust: none\; font-kerning: auto\; font-variant-alternates: normal\; font-variant-ligatures: normal\; font-variant-numeric: normal\; font-variant-east-asian: normal\; font-variant-position: normal\; font-feature-settings: normal\; font-optical-sizing: auto\; font-variation-settings: normal\;"><i>Kuleana Holistic Health</i></li>\n	<li style="margin: 0px\; font-style: normal\; font-variant-caps: normal\; font-stretch: normal\; line-height: normal\; font-family: &quot\;Helvetica Neue&quot\;\; font-size-adjust: none\; font-kerning: auto\; font-variant-alternates: normal\; font-variant-ligatures: normal\; font-variant-numeric: normal\; font-variant-east-asian: normal\; font-variant-position: normal\; font-feature-settings: normal\; font-optical-sizing: auto\; font-variation-settings: normal\;"><i>SoHo Yoga</i>&nbsp\;</li>\n	<li style="margin: 0px\; font-style: normal\; font-variant-caps: normal\; font-stretch: normal\; line-height: normal\; font-family: &quot\;Helvetica Neue&quot\;\; font-size-adjust: none\; font-kerning: auto\; font-variant-alternates: normal\; font-variant-ligatures: normal\; font-variant-numeric: normal\; font-variant-east-asian: normal\; font-variant-position: normal\; font-feature-settings: normal\; font-optical-sizing: auto\; font-variation-settings: normal\;"><i>The Work by Ava</i></li>\n	<li style="margin: 0px\; font-style: normal\; font-variant-caps: normal\; font-stretch: normal\; line-height: normal\; font-family: &quot\;Helvetica Neue&quot\;\; font-size-adjust: none\; font-kerning: auto\; font-variant-alternates: normal\; font-variant-ligatures: normal\; font-variant-numeric: normal\; font-variant-east-asian: normal\; font-variant-position: normal\; font-feature-settings: normal\; font-optical-sizing: auto\; font-variation-settings: normal\;"><i>Wicked General Store</i>&nbsp\;</li>\n	<li style="margin: 0px\; font-style: normal\; font-variant-caps: normal\; font-stretch: normal\; line-height: normal\; font-family: &quot\;Helvetica Neue&quot\;\; font-size-adjust: none\; font-kerning: auto\; font-variant-alternates: normal\; font-variant-ligatures: normal\; font-variant-numeric: normal\; font-variant-east-asian: normal\; font-variant-position: normal\; font-feature-settings: normal\; font-optical-sizing: auto\; font-variation-settings: normal\;"><i>Beach &amp\; Beverly</i>&nbsp\;</li>\n	<li style="margin: 0px\; font-style: normal\; font-variant-caps: normal\; font-stretch: normal\; line-height: normal\; font-family: &quot\;Helvetica Neue&quot\;\; font-size-adjust: none\; font-kerning: auto\; font-variant-alternates: normal\; font-variant-ligatures: normal\; font-variant-numeric: normal\; font-variant-east-asian: normal\; font-variant-position: normal\; font-feature-settings: normal\; font-optical-sizing: auto\; font-variation-settings: normal\;"><i>FORM&nbsp\;Pilates LA</i></li>\n	<li style="margin: 0px\; font-style: normal\; font-variant-caps: normal\; font-stretch: normal\; line-height: normal\; font-family: &quot\;Helvetica Neue&quot\;\; font-size-adjust: none\; font-kerning: auto\; font-variant-alternates: normal\; font-variant-ligatures: normal\; font-variant-numeric: normal\; font-variant-east-asian: normal\; font-variant-position: normal\; font-feature-settings: normal\; font-optical-sizing: auto\; font-variation-settings: normal\;"><i>West Coast Sweat </i></li>\n	<li style="margin: 0px\; font-style: normal\; font-variant-caps: normal\; font-stretch: normal\; line-height: normal\; font-family: &quot\;Helvetica Neue&quot\;\; font-size-adjust: none\; font-kerning: auto\; font-variant-alternates: normal\; font-variant-ligatures: normal\; font-variant-numeric: normal\; font-variant-east-asian: normal\; font-variant-position: normal\; font-feature-settings: normal\; font-optical-sizing: auto\; font-variation-settings: normal\;"><i>Pro SUP Shop</i></li>\n	<li style="margin: 0px\; font-style: normal\; font-variant-caps: normal\; font-stretch: normal\; line-height: normal\; font-family: &quot\;Helvetica Neue&quot\;\; font-size-adjust: none\; font-kerning: auto\; font-variant-alternates: normal\; font-variant-ligatures: normal\; font-variant-numeric: normal\; font-variant-east-asian: normal\; font-variant-position: normal\; font-feature-settings: normal\; font-optical-sizing: auto\; font-variation-settings: normal\;"><i>Hume Supernatural&nbsp\;</i></li>\n	<li style="margin: 0px\; font-style: normal\; font-variant-caps: normal\; font-stretch: normal\; line-height: normal\; font-family: &quot\;Helvetica Neue&quot\;\; font-size-adjust: none\; font-kerning: auto\; font-variant-alternates: normal\; font-variant-ligatures: normal\; font-variant-numeric: normal\; font-variant-east-asian: normal\; font-variant-position: normal\; font-feature-settings: normal\; font-optical-sizing: auto\; font-variation-settings: normal\;"><i>Sol Seek</i></li>\n	<li style="margin: 0px\; font-style: normal\; font-variant-caps: normal\; font-stretch: normal\; line-height: normal\; font-family: &quot\;Helvetica Neue&quot\;\; font-size-adjust: none\; font-kerning: auto\; font-variant-alternates: normal\; font-variant-ligatures: normal\; font-variant-numeric: normal\; font-variant-east-asian: normal\; font-variant-position: normal\; font-feature-settings: normal\; font-optical-sizing: auto\; font-variation-settings: normal\;"><i>Vuori&nbsp\;</i></li>\n	<li style="margin: 0px\; font-style: normal\; font-variant-caps: normal\; font-stretch: normal\; line-height: normal\; font-family: &quot\;Helvetica Neue&quot\;\; font-size-adjust: none\; font-kerning: auto\; font-variant-alternates: normal\; font-variant-ligatures: normal\; font-variant-numeric: normal\; font-variant-east-asian: normal\; font-variant-position: normal\; font-feature-settings: normal\; font-optical-sizing: auto\; font-variation-settings: normal\;">and MORE!!</li>\n</ul>\n\n<p style="margin: 0px\; font-style: normal\; font-variant-caps: normal\; font-stretch: normal\; line-height: normal\; font-family: &quot\;Helvetica Neue&quot\;\; font-size-adjust: none\; font-kerning: auto\; font-variant-alternates: normal\; font-variant-ligatures: normal\; font-variant-numeric: normal\; font-variant-east-asian: normal\; font-variant-position: normal\; font-feature-settings: normal\; font-optical-sizing: auto\; font-variation-settings: normal\;">Everyone who purchases a raffle ticket gets complimentary coffee from our friend Al of F&amp\;F!*</p>\n
LOCATION:Kuleana Holistic Health 514 Pier Avenue Hermosa Beach\, CA 90254
UID:e.2438.9388
SEQUENCE:3
DTSTAMP:20260419T152201Z
URL:https://business.hbchamber.net/events/details/animal-adoption-support-event-9388
END:VEVENT

END:VCALENDAR
