BEGIN:VCALENDAR
VERSION:2.0
PRODID:-//ChamberMaster//Event Calendar 2.0//EN
METHOD:PUBLISH
X-PUBLISHED-TTL:P3D
REFRESH-INTERVAL:P3D
CALSCALE:GREGORIAN
BEGIN:VEVENT
DTSTART:20241207T180000Z
DTEND:20241207T200000Z
X-MICROSOFT-CDO-ALLDAYEVENT:FALSE
SUMMARY:Ambassador Christian School Admissions Open House
DESCRIPTION:AMBASSADOR CHRISTIAN SCHOOL \n\nADMISSIONS OPEN HOUSE\n\nJoin us for campus tours\, teacher and student meet-n-greet\, and an unforgettable Lion experience.\n\n\n\nSaturday\, December 7 || 10am-12pm\n\n2300 Crenshaw Blvd. Building B\n\nTorrance\, CA 90501\n\n\n\nAmbassador Christian School is the premiere 6th-12th grade college-prep Christian school in the South Bay providing educational excellence from a Biblical worldview through academics\, athletics\, and the arts. We offer innovative early college\, internship\, and spiritual support programs for students that prepare them to be leaders in their fields.
X-ALT-DESC;FMTTYPE=text/html:<div style="background:rgb(238\, 238\, 238)\; border:1px solid rgb(204\, 204\, 204)\; padding:5px 10px\; text-align:center"><span style="font-size:16px"><span style="font-family:tahoma"><strong>AMBASSADOR CHRISTIAN SCHOOL&nbsp\;<br />\nADMISSIONS OPEN HOUSE</strong></span></span></div>\n\n<p><span style="font-family:tahoma"><span style="font-size:14px">Join us for campus tours\, teacher and student meet-n-greet\, and an unforgettable Lion experience.<br />\n<br />\n<strong>Saturday\, December 7 || 10am-12pm</strong><br />\n2300 Crenshaw Blvd. Building B<br />\nTorrance\, CA 90501<br />\n<br />\n<span style="color:rgb(0\, 0\, 0)">Ambassador Christian School is the premiere 6th-12th grade college-prep Christian school in the South Bay providing educational excellence from a Biblical worldview through academics\, athletics\, and the arts. We offer innovative early college\, internship\, and spiritual support programs for students that prepare them to be leaders in their fields.</span></span></span></p>\n
LOCATION:Ambassador Christian School 2300 Crenshaw Blvd. Building B Torrance\, CA 90501 (On SCROC campus)
UID:e.2438.10726
SEQUENCE:3
DTSTAMP:20260422T173056Z
URL:https://business.hbchamber.net/events/details/admissions-open-house-10726
END:VEVENT

END:VCALENDAR
