BEGIN:VCALENDAR
VERSION:2.0
PRODID:-//ChamberMaster//Event Calendar 2.0//EN
METHOD:PUBLISH
X-PUBLISHED-TTL:P3D
REFRESH-INTERVAL:P3D
CALSCALE:GREGORIAN
BEGIN:VEVENT
DTSTART:20241120T023000Z
DTEND:20241120T040000Z
X-MICROSOFT-CDO-ALLDAYEVENT:FALSE
SUMMARY:Academic Info Night for Parents: Navigating the High School Academic Landscape
DESCRIPTION:Please join us on Tuesday\, November 19th\, for a Parent Academic Info Night. We will be sharing useful information and clarification about the college planning process\, the 4-year academic roadmap\, and the customizable programs Ambassador offers to help make students prepared and competitive.\n\nTopics covered will include earning college units through dual credit\, dual enrollment\, and CCU classes\; high school graduation and UC A-G requirements\; college planning assistance and resources\; financial aid information\; an explanation of Honors and AP courses\; transcripts\; and our internship program.\n\n\n\nPlease RSVP: https://forms.gle/PeexPCyTyqEeP26p8
X-ALT-DESC;FMTTYPE=text/html:<p>Please join us on&nbsp\;<strong>Tuesday\, November 19th\,</strong>&nbsp\;for a Parent Academic Info Night. We will be sharing useful information and clarification about the college planning process\, the 4-year academic roadmap<span style="color:rgb(32\, 33\, 36)\; font-family:docs-roboto\; font-size:14.6667px">\,&nbsp\;</span>and the customizable programs Ambassador offers to help make students prepared and competitive.</p>\n\n<p>Topics covered will include earning college units through dual credit\, dual enrollment\, and CCU classes\; high school graduation and UC A-G requirements\; college planning assistance and resources\; financial aid information\; an explanation of Honors and AP courses\; transcripts\; and our internship program.<br />\n<br />\nPlease RSVP:&nbsp\;https://forms.gle/PeexPCyTyqEeP26p8</p>\n
LOCATION:Ambassador Christian School Building B Board Room 2300 Crenshaw Blvd. Building B Torrance\, CA 90501
UID:e.2438.10774
SEQUENCE:3
DTSTAMP:20260422T192545Z
URL:https://business.hbchamber.net/events/details/academic-info-night-for-parents-navigating-the-high-school-academic-landscape-10774
END:VEVENT

END:VCALENDAR
