BEGIN:VCALENDAR
VERSION:2.0
PRODID:-//ChamberMaster//Event Calendar 2.0//EN
METHOD:PUBLISH
X-PUBLISHED-TTL:P3D
REFRESH-INTERVAL:P3D
CALSCALE:GREGORIAN
BEGIN:VEVENT
DTSTART:20250119T140000Z
DTEND:20250120T020000Z
X-MICROSOFT-CDO-ALLDAYEVENT:FALSE
SUMMARY:AAU Southern Pacific Grand Prix Series
DESCRIPTION:The Amateur Athletic Union (AAU) will host a youth qualifier volleyball tournament for the national AAU competitions on the north side of the Pier.\n\n\n\nFor more information\, visit www.aauvolleyball.org.
X-ALT-DESC;FMTTYPE=text/html:The Amateur Athletic Union (AAU) will host a youth qualifier volleyball tournament for the national AAU competitions on the north side of the Pier.<br />\n<br />\nFor more information\, visit <a href="https://aauvolleyball.org/">www.aauvolleyball.org</a>.
LOCATION:Volleyball Courts 1 Pier Avenue Hermosa Beach\, CA 90254
UID:e.2438.11137
SEQUENCE:3
DTSTAMP:20260420T184807Z
URL:https://business.hbchamber.net/events/details/aau-southern-pacific-grand-prix-series-11137
END:VEVENT

END:VCALENDAR
