BEGIN:VCALENDAR
VERSION:2.0
PRODID:-//ChamberMaster//Event Calendar 2.0//EN
METHOD:PUBLISH
X-PUBLISHED-TTL:P3D
REFRESH-INTERVAL:P3D
CALSCALE:GREGORIAN
BEGIN:VEVENT
DTSTART:20220424T160000Z
DTEND:20220424T230000Z
X-MICROSOFT-CDO-ALLDAYEVENT:FALSE
SUMMARY:AAU Southern Grand Prix Series
DESCRIPTION:AAU Youth Beach Volleyball Tournament on the beach volleyball courts\, north of the Pier. \n\nMore information can be found here.
X-ALT-DESC;FMTTYPE=text/html:<p style="box-sizing: border-box\; margin: 0px 0px 1em\; color: rgb(21\, 27\, 33)\; font-family: Cabin\, sans-serif\; font-size: 18px\; background-color: rgb(247\, 246\, 244)\; text-align: center\;">AAU Youth Beach Volleyball Tournament on the beach volleyball courts\, north of the Pier.&nbsp\;</p>\n\n<p style="box-sizing: border-box\; margin: 0px 0px 1em\; color: rgb(21\, 27\, 33)\; font-family: Cabin\, sans-serif\; font-size: 18px\; background-color: rgb(247\, 246\, 244)\; text-align: center\;">More information can be found&nbsp\;<a href="https://www.hermosabeach.gov/?splash=https%3a%2f%2faauvolleyball.org%2fpage.php%3fpage_id%3d105224&amp\;____isexternal=true" style="box-sizing: border-box\; background-color: transparent\; color: rgb(0\, 102\, 119)\;" target="_blank">here.&nbsp\;</a></p>\n
LOCATION:Beach and Strand 1 Pier Avenue Hermosa Beach\, California 90254
UID:e.2438.5404
SEQUENCE:3
DTSTAMP:20260421T091815Z
URL:https://business.hbchamber.net/events/details/aau-southern-grand-prix-series-5404
END:VEVENT

END:VCALENDAR
