BEGIN:VCALENDAR
VERSION:2.0
PRODID:-//ChamberMaster//Event Calendar 2.0//EN
METHOD:PUBLISH
X-PUBLISHED-TTL:P3D
REFRESH-INTERVAL:P3D
CALSCALE:GREGORIAN
BEGIN:VEVENT
DTSTART:20241214T170000Z
DTEND:20241214T200000Z
X-MICROSOFT-CDO-ALLDAYEVENT:FALSE
SUMMARY:6th Annual Santa Stroll
DESCRIPTION:The 6th Annual Santa Stroll benefiting Mychal's Learning Place is a festive 5k fun run\, walk\, or stroll on Saturday\, December 14th starting at Hermosa Beach Pier! This stroll along the Strand is part of an international competition to gather the most Santa's in one location and empowers individuals with developmental disabilities -everyone who registers will receive a Santa Suit (kids get a t-shirt)*! Founded in 2002\, Mychal's is a 501c3 non-profit organization that provides support\, training\, and opportunities to youth and young adults with developmental disabilities\, to build their independence and pursue their goals and dreams. \n\n*while supplies last!
X-ALT-DESC;FMTTYPE=text/html:The 6th Annual Santa Stroll benefiting Mychal&#39\;s Learning Place is a festive 5k fun run\, walk\, or stroll on Saturday\, December 14th starting at Hermosa Beach Pier! This stroll along the Strand is part of an international competition to gather the most Santa&#39\;s in one location and empowers individuals with developmental disabilities -everyone who registers will receive a Santa Suit (kids get a t-shirt)*! Founded in 2002\, Mychal&#39\;s is a 501c3 non-profit organization that provides support\, training\, and opportunities to youth and young adults with developmental disabilities\, to build their independence and pursue their goals and dreams.&nbsp\;<br />\n*while supplies last!
LOCATION:Hermosa Beach Pier Plaza 1 Pier Ave. Hermosa Beach\, CA 90254
UID:e.2438.10642
SEQUENCE:3
DTSTAMP:20260422T173055Z
URL:https://business.hbchamber.net/events/details/6th-annual-santa-stroll-10642
END:VEVENT

END:VCALENDAR
