BEGIN:VCALENDAR
VERSION:2.0
PRODID:-//ChamberMaster//Event Calendar 2.0//EN
METHOD:PUBLISH
X-PUBLISHED-TTL:P3D
REFRESH-INTERVAL:P3D
CALSCALE:GREGORIAN
BEGIN:VEVENT
DTSTART:20220223T230000Z
DTEND:20220224T020000Z
X-MICROSOFT-CDO-ALLDAYEVENT:FALSE
SUMMARY:5 Year Anniversary - Realty ONE Group United
DESCRIPTION:Realty ONE Group United Hermosa Beach will be celebrating 5 ONEderful Years! We will be serving Wine & Hors d'oeuvres! Please join us during this celebration of our Anniversary! RSVP REQUIRED
X-ALT-DESC;FMTTYPE=text/html:Realty ONE Group United Hermosa Beach will be celebrating 5 ONEderful Years! We will be serving Wine &amp\; Hors d&#39\;oeuvres! Please join us during this celebration of our Anniversary! RSVP REQUIRED
LOCATION:243 Pacific Coast Highway\, Hermosa Beach 90254
UID:e.2438.5137
SEQUENCE:3
DTSTAMP:20260421T133942Z
URL:https://business.hbchamber.net/events/details/5-year-anniversary-realty-one-group-united-5137
END:VEVENT

END:VCALENDAR
