BEGIN:VCALENDAR
VERSION:2.0
PRODID:-//ChamberMaster//Event Calendar 2.0//EN
METHOD:PUBLISH
X-PUBLISHED-TTL:P3D
REFRESH-INTERVAL:P3D
CALSCALE:GREGORIAN
BEGIN:VEVENT
DTSTART:20241109T170000Z
DTEND:20241109T200000Z
X-MICROSOFT-CDO-ALLDAYEVENT:FALSE
SUMMARY:3rd Annual Cure Rare Event
DESCRIPTION:This special day brings us together to raise awareness and support for CDKL5 research\, a cause close to our hearts as we help Sam's niece in her fight against this rare genetic disorder.
X-ALT-DESC;FMTTYPE=text/html:This special day brings us together to raise awareness and support for CDKL5 research\, a cause close to our hearts as we help Sam&rsquo\;s niece in her fight against this rare genetic disorder.
LOCATION:Workout at Gate 14 Redondo 1262 Beryl St Redondo Beach\, CA 90277 After Party at Hudson House 514 N Pacific Coast Hwy Redondo Beach\, CA 90277
UID:e.2438.10727
SEQUENCE:3
DTSTAMP:20260422T194426Z
URL:https://business.hbchamber.net/events/details/3rd-annual-cure-rare-event-10727
END:VEVENT

END:VCALENDAR
