BEGIN:VCALENDAR
VERSION:2.0
PRODID:-//ChamberMaster//Event Calendar 2.0//EN
METHOD:PUBLISH
X-PUBLISHED-TTL:P3D
REFRESH-INTERVAL:P3D
CALSCALE:GREGORIAN
BEGIN:VEVENT
DTSTART:20231105T160000Z
DTEND:20231105T200000Z
X-MICROSOFT-CDO-ALLDAYEVENT:FALSE
SUMMARY:30th Annual Pancake Breakfast
DESCRIPTION:30th Annual Woman's Club of Hermosa Beach Pancake Breakfast
X-ALT-DESC;FMTTYPE=text/html:30th Annual Woman&#39\;s Club of Hermosa Beach Pancake Breakfast
LOCATION:Hermosa Kiwanis Hall 2515 Valley Dr. Hermosa Beach\, CA 90254
UID:e.2438.8780
SEQUENCE:3
DTSTAMP:20260421T085718Z
URL:https://business.hbchamber.net/events/details/30th-annual-pancake-breakfast-8780
END:VEVENT

END:VCALENDAR
