BEGIN:VCALENDAR
VERSION:2.0
PRODID:-//ChamberMaster//Event Calendar 2.0//EN
METHOD:PUBLISH
X-PUBLISHED-TTL:P3D
REFRESH-INTERVAL:P3D
CALSCALE:GREGORIAN
BEGIN:VEVENT
DTSTART:20250328T010000Z
DTEND:20250328T030000Z
X-MICROSOFT-CDO-ALLDAYEVENT:FALSE
SUMMARY:2025: The Year of Local Authors - Romance Author Roundtable
DESCRIPTION:Local authors Alison Aimes\, Jayci Lee\, Emily Wibberley & Austin Siegemund-Broka\, and AJ Wynn will share their insights\, inspirations\, and the magic behind their novels. Whether you're a longtime romance fan or just discovering the genre\, this event promises an evening filled with lively conversation and literary passion.
X-ALT-DESC;FMTTYPE=text/html:Local authors <a href="https://alisonaimes.com/">Alison Aimes</a>\, <a href="https://jaycilee.com/">Jayci Lee</a>\, <a href="https://www.emilyandaustinwrite.com/">Emily Wibberley &amp\; Austin Siegemund-Broka</a>\, and <a href="https://ajwynn.com/">AJ Wynn</a> will share their insights\, inspirations\, and the magic behind their novels. Whether you&#39\;re a longtime romance fan or just discovering the genre\, this event promises an evening filled with lively conversation and literary passion.
LOCATION:Hermosa Beach Museum 710 Pier Ave Hermosa Beach\, CA 90254
UID:e.2438.11460
SEQUENCE:3
DTSTAMP:20260422T192822Z
URL:https://business.hbchamber.net/events/details/2025-the-year-of-local-authors-romance-author-roundtable-11460
END:VEVENT

END:VCALENDAR
