BEGIN:VCALENDAR
VERSION:2.0
PRODID:-//ChamberMaster//Event Calendar 2.0//EN
METHOD:PUBLISH
X-PUBLISHED-TTL:P3D
REFRESH-INTERVAL:P3D
CALSCALE:GREGORIAN
BEGIN:VEVENT
DTSTART:20250131T020000Z
DTEND:20250131T040000Z
X-MICROSOFT-CDO-ALLDAYEVENT:FALSE
SUMMARY:2025: The Year of Local Authors - Hollywood Series
DESCRIPTION:The Hermosa Beach Friends of the Library\, in partnership with the Hermosa Beach Museum\, is thrilled to launch 2025: The Year of Local Authors with an exciting panel discussion on January 30th\, 2025\, from 6:00 8:00 PM.\n\nThis inaugural event\, Hollywood Stories\, brings together two celebrated authors: Jim Fredrick\, author of Opening Weekend: An Insider's Look at Marketing Hollywood's Hits and Flops\, an entertaining dive into the highs and lows of Hollywood's most talked-about releases. Chris Nashawaty\, author of The Future Was Now: Madmen\, Mavericks\, and the Epic Sci-Fi Summer of 1982\, a nostalgic exploration of the groundbreaking sci-fi films that shaped pop culture.
X-ALT-DESC;FMTTYPE=text/html:The Hermosa Beach Friends of the Library\, in partnership with the Hermosa Beach Museum\, is thrilled to launch 2025: The Year of Local Authors with an exciting panel discussion on January 30th\, 2025\, from 6:00&ndash\;8:00 PM.<br />\nThis inaugural event\, Hollywood Stories\, brings together two celebrated authors: Jim Fredrick\, author of <em>Opening Weekend</em>: An Insider&rsquo\;s Look at Marketing Hollywood&rsquo\;s Hits and Flops\, an entertaining dive into the highs and lows of Hollywood&rsquo\;s most talked-about releases. Chris Nashawaty\, author of <em>The Future Was Now</em>: Madmen\, Mavericks\, and the Epic Sci-Fi Summer of 1982\, a nostalgic exploration of the groundbreaking sci-fi films that shaped pop culture.
LOCATION:Hermosa Beach Museum 710 Pier Ave Hermosa Beach\, CA 90254
UID:e.2438.11107
SEQUENCE:3
DTSTAMP:20260420T104815Z
URL:https://business.hbchamber.net/events/details/2025-the-year-of-local-authors-hollywood-series-11107
END:VEVENT

END:VCALENDAR
