BEGIN:VCALENDAR
VERSION:2.0
PRODID:-//ChamberMaster//Event Calendar 2.0//EN
METHOD:PUBLISH
X-PUBLISHED-TTL:P3D
REFRESH-INTERVAL:P3D
CALSCALE:GREGORIAN
BEGIN:VEVENT
DTSTART:20220412T013000Z
DTEND:20220412T030000Z
X-MICROSOFT-CDO-ALLDAYEVENT:FALSE
SUMMARY:2022 Beach Cities Relay For Life Planning Meeting
DESCRIPTION:Please join us for our next Beach Cities RFL Planning Meeting! Monday\, April 11th @ 6:30 pm\n\n \n\nThe meeting will be in-person at Silverado Beach Cities or via Zoom.\n\n \n\nSilverado Beach Cities (We will meet in the lobby\, so please be on time.)\n\n514 N. Prospect Avenue \n\nRedondo Beach\, CA 90277 \n\nTel (310) 896-3100\n\n \n\nJoin Zoom Meeting\n\nhttps://silverado.zoom.us/j/87196191015?pwd=TXlIaGNkV09VRTZjeEJVdEdEMHl4dz09\n\nMeeting ID: 871 9619 1015\n\nPasscode: 812539\n\nOne tap mobile\n\n+12133388477\,\,87196191015# US (Los Angeles)\n\n+16692192599\,\,87196191015# US (San Jose)\n\n \n\nRSVP: dana.wynkoop@cancer.org
X-ALT-DESC;FMTTYPE=text/html:<span style="color:#7030a0\;"><span style="font-family:cooper black\,serif\;"><span style="font-size:16pt\;">Please join us for our next Beach Cities RFL Planning Meeting!&nbsp\;</span></span></span><span style="color:#7030a0\;"><span style="font-family:cooper black\,serif\;"><span style="font-size:18pt\;">Monday\, April 11<sup>th</sup>&nbsp\;@ 6:30 pm</span></span></span><br />\n&nbsp\;<br />\n<span style="color:#7030a0\;"><span style="font-family:cooper black\,serif\;"><span style="font-size:14pt\;">The meeting will be in-person at Silverado Beach Cities&nbsp\;or via Zoom.</span></span></span><br />\n&nbsp\;<br />\n<strong>Silverado Beach Cities</strong>&nbsp\;(We will meet in the lobby\, so please be on time.)<br />\n514 N. Prospect Avenue&nbsp\;<br />\nRedondo Beach\, CA 90277&nbsp\;<br />\nTel (310) 896-3100<br />\n&nbsp\;<br />\n<strong>Join Zoom Meeting</strong><br />\n<a data-saferedirecturl="https://www.google.com/url?q=https://silverado.zoom.us/j/87196191015?pwd%3DTXlIaGNkV09VRTZjeEJVdEdEMHl4dz09&amp\;source=gmail&amp\;ust=1649284775529000&amp\;usg=AOvVaw0QdRHxNZdNYqqZgqY-5uQR" href="https://silverado.zoom.us/j/87196191015?pwd=TXlIaGNkV09VRTZjeEJVdEdEMHl4dz09" style="color:rgb(17\, 85\, 204)\;" target="_blank"><span style="font-size:12pt\;">https://silverado.zoom.us/j/<wbr />87196191015?pwd=<wbr />TXlIaGNkV09VRTZjeEJVdEdEMHl4dz<wbr />09</span></a><br />\nMeeting ID: 871 9619 1015<br />\nPasscode: 812539<br />\nOne tap mobile<br />\n+12133388477\,\,87196191015# US (Los Angeles)<br />\n+16692192599\,\,87196191015# US (San Jose)<br />\n&nbsp\;<br />\n<span style="color:#7030a0\;"><span style="font-family:cooper black\,serif\;"><span style="font-size:18pt\;">RSVP:&nbsp\;</span></span></span><a href="mailto:dana.wynkoop@cancer.org" style="color:rgb(17\, 85\, 204)\;" target="_blank"><span style="font-family:cooper black\,serif\;"><span style="font-size:18pt\;">dana.wynkoop@cancer.org</span></span></a><br />\n&nbsp\;
LOCATION:Silverado Beach Cities (We will meet in the lobby\, so please be on time.) 514 N. Prospect Avenue Redondo Beach\, CA 90277 Tel (310) 896-3100 Join Zoom Meeting https://silverado.zoom.us/j/87196191015?pwd=TXlIaGNkV09VRTZjeEJVdEdEMHl4dz09 Meeting ID: 871 9619 1015 Passcode: 812539 One tap mobile +12133388477\,\,87196191015# US (Los Angeles) +16692192599\,\,87196191015# US (San Jose)
UID:e.2438.5400
SEQUENCE:3
DTSTAMP:20260421T092105Z
URL:https://business.hbchamber.net/events/details/2022-beach-cities-relay-for-life-planning-meeting-5400
END:VEVENT

END:VCALENDAR
